BEGIN:VCALENDAR
VERSION:2.0
PRODID:-//Badmintonclub Geldrop - ECPv6.15.20//NONSGML v1.0//EN
CALSCALE:GREGORIAN
METHOD:PUBLISH
X-WR-CALNAME:Badmintonclub Geldrop
X-ORIGINAL-URL:https://www.bcgeldrop.nl
X-WR-CALDESC:Evenementen voor Badmintonclub Geldrop
REFRESH-INTERVAL;VALUE=DURATION:PT1H
X-Robots-Tag:noindex
X-PUBLISHED-TTL:PT1H
BEGIN:VTIMEZONE
TZID:Europe/Amsterdam
BEGIN:DAYLIGHT
TZOFFSETFROM:+0100
TZOFFSETTO:+0200
TZNAME:CEST
DTSTART:20240331T010000
END:DAYLIGHT
BEGIN:STANDARD
TZOFFSETFROM:+0200
TZOFFSETTO:+0100
TZNAME:CET
DTSTART:20241027T010000
END:STANDARD
BEGIN:DAYLIGHT
TZOFFSETFROM:+0100
TZOFFSETTO:+0200
TZNAME:CEST
DTSTART:20250330T010000
END:DAYLIGHT
BEGIN:STANDARD
TZOFFSETFROM:+0200
TZOFFSETTO:+0100
TZNAME:CET
DTSTART:20251026T010000
END:STANDARD
BEGIN:DAYLIGHT
TZOFFSETFROM:+0100
TZOFFSETTO:+0200
TZNAME:CEST
DTSTART:20260329T010000
END:DAYLIGHT
BEGIN:STANDARD
TZOFFSETFROM:+0200
TZOFFSETTO:+0100
TZNAME:CET
DTSTART:20261025T010000
END:STANDARD
END:VTIMEZONE
BEGIN:VEVENT
DTSTART;TZID=Europe/Amsterdam:20250419T084500
DTEND;TZID=Europe/Amsterdam:20250419T101500
DTSTAMP:20260426T002529
CREATED:20250102T150613Z
LAST-MODIFIED:20250102T150613Z
UID:19517-1745052300-1745057700@www.bcgeldrop.nl
SUMMARY:Seniorentraining
DESCRIPTION:
URL:https://www.bcgeldrop.nl/activiteit/seniorentraining-522/
LOCATION:Sporthal De Kievit\, Linze 13\, Geldrop\, 5667AH\, Nederland
CATEGORIES:Trainingen senioren
END:VEVENT
BEGIN:VEVENT
DTSTART;TZID=Europe/Amsterdam:20250417T203000
DTEND;TZID=Europe/Amsterdam:20250417T230000
DTSTAMP:20260426T002529
CREATED:20250102T144904Z
LAST-MODIFIED:20250102T144904Z
UID:19467-1744921800-1744930800@www.bcgeldrop.nl
SUMMARY:Vrij spelen
DESCRIPTION:Halve hal vanaf 22:30
URL:https://www.bcgeldrop.nl/activiteit/vrij-spelen-410/
LOCATION:Sporthal De Kievit\, Linze 13\, Geldrop\, 5667AH\, Nederland
CATEGORIES:Vrij spelen
END:VEVENT
BEGIN:VEVENT
DTSTART;TZID=Europe/Amsterdam:20250417T190000
DTEND;TZID=Europe/Amsterdam:20250417T203000
DTSTAMP:20260426T002529
CREATED:20250102T144222Z
LAST-MODIFIED:20250102T144222Z
UID:19442-1744916400-1744921800@www.bcgeldrop.nl
SUMMARY:Seniorentraining
DESCRIPTION:
URL:https://www.bcgeldrop.nl/activiteit/seniorentraining-505/
LOCATION:Sporthal De Kievit\, Linze 13\, Geldrop\, 5667AH\, Nederland
CATEGORIES:Trainingen senioren
END:VEVENT
BEGIN:VEVENT
DTSTART;TZID=Europe/Amsterdam:20250417T164500
DTEND;TZID=Europe/Amsterdam:20250417T203000
DTSTAMP:20260426T002529
CREATED:20250102T144112Z
LAST-MODIFIED:20250102T144112Z
UID:19420-1744908300-1744921800@www.bcgeldrop.nl
SUMMARY:Jeugdtraining
DESCRIPTION:
URL:https://www.bcgeldrop.nl/activiteit/jeugdtraining-492/
LOCATION:Sporthal De Kievit\, Linze 13\, Geldrop\, 5667AH\, Nederland
CATEGORIES:Trainingen jeugd
END:VEVENT
BEGIN:VEVENT
DTSTART;TZID=Europe/Amsterdam:20250414T203000
DTEND;TZID=Europe/Amsterdam:20250414T230000
DTSTAMP:20260426T002529
CREATED:20241014T100618Z
LAST-MODIFIED:20250102T170533Z
UID:19208-1744662600-1744671600@www.bcgeldrop.nl
SUMMARY:Vrij spelen
DESCRIPTION:Halve hal vanaf 22:30
URL:https://www.bcgeldrop.nl/activiteit/vrij-spelen-370/
LOCATION:Sporthal De Kievit\, Linze 13\, Geldrop\, 5667AH\, Nederland
CATEGORIES:Vrij spelen
END:VEVENT
BEGIN:VEVENT
DTSTART;TZID=Europe/Amsterdam:20250414T190000
DTEND;TZID=Europe/Amsterdam:20250414T203000
DTSTAMP:20260426T002529
CREATED:20241014T093033Z
LAST-MODIFIED:20250102T165047Z
UID:19133-1744657200-1744662600@www.bcgeldrop.nl
SUMMARY:Seniorentraining
DESCRIPTION:
URL:https://www.bcgeldrop.nl/activiteit/seniorentraining-465/
LOCATION:Sporthal De Kievit\, Linze 13\, Geldrop\, 5667AH\, Nederland
CATEGORIES:Trainingen senioren
END:VEVENT
BEGIN:VEVENT
DTSTART;TZID=Europe/Amsterdam:20250414T174500
DTEND;TZID=Europe/Amsterdam:20250414T190000
DTSTAMP:20260426T002529
CREATED:20241014T094352Z
LAST-MODIFIED:20250102T150518Z
UID:19171-1744652700-1744657200@www.bcgeldrop.nl
SUMMARY:Jeugdtraining
DESCRIPTION:
URL:https://www.bcgeldrop.nl/activiteit/jeugdtraining-462/
LOCATION:Sporthal De Kievit\, Linze 13\, Geldrop\, 5667AH\, Nederland
CATEGORIES:Trainingen jeugd
END:VEVENT
BEGIN:VEVENT
DTSTART;TZID=Europe/Amsterdam:20250410T203000
DTEND;TZID=Europe/Amsterdam:20250410T230000
DTSTAMP:20260426T002529
CREATED:20250102T144705Z
LAST-MODIFIED:20250102T144705Z
UID:19466-1744317000-1744326000@www.bcgeldrop.nl
SUMMARY:Vrij spelen
DESCRIPTION:Halve hal vanaf 22:30
URL:https://www.bcgeldrop.nl/activiteit/vrij-spelen-409/
LOCATION:Sporthal De Kievit\, Linze 13\, Geldrop\, 5667AH\, Nederland
CATEGORIES:Vrij spelen
END:VEVENT
BEGIN:VEVENT
DTSTART;TZID=Europe/Amsterdam:20250410T190000
DTEND;TZID=Europe/Amsterdam:20250410T203000
DTSTAMP:20260426T002529
CREATED:20250102T144208Z
LAST-MODIFIED:20250102T144208Z
UID:19441-1744311600-1744317000@www.bcgeldrop.nl
SUMMARY:Seniorentraining
DESCRIPTION:
URL:https://www.bcgeldrop.nl/activiteit/seniorentraining-504/
LOCATION:Sporthal De Kievit\, Linze 13\, Geldrop\, 5667AH\, Nederland
CATEGORIES:Trainingen senioren
END:VEVENT
BEGIN:VEVENT
DTSTART;TZID=Europe/Amsterdam:20250410T164500
DTEND;TZID=Europe/Amsterdam:20250410T203000
DTSTAMP:20260426T002529
CREATED:20250102T144112Z
LAST-MODIFIED:20250102T144112Z
UID:19419-1744303500-1744317000@www.bcgeldrop.nl
SUMMARY:Jeugdtraining
DESCRIPTION:
URL:https://www.bcgeldrop.nl/activiteit/jeugdtraining-491/
LOCATION:Sporthal De Kievit\, Linze 13\, Geldrop\, 5667AH\, Nederland
CATEGORIES:Trainingen jeugd
END:VEVENT
BEGIN:VEVENT
DTSTART;TZID=Europe/Amsterdam:20250407T203000
DTEND;TZID=Europe/Amsterdam:20250407T230000
DTSTAMP:20260426T002529
CREATED:20241014T100618Z
LAST-MODIFIED:20250102T170532Z
UID:19207-1744057800-1744066800@www.bcgeldrop.nl
SUMMARY:Vrij spelen
DESCRIPTION:Halve hal vanaf 22:30
URL:https://www.bcgeldrop.nl/activiteit/vrij-spelen-369/
LOCATION:Sporthal De Kievit\, Linze 13\, Geldrop\, 5667AH\, Nederland
CATEGORIES:Vrij spelen
END:VEVENT
BEGIN:VEVENT
DTSTART;TZID=Europe/Amsterdam:20250407T190000
DTEND;TZID=Europe/Amsterdam:20250407T203000
DTSTAMP:20260426T002529
CREATED:20241014T093033Z
LAST-MODIFIED:20250102T165046Z
UID:19132-1744052400-1744057800@www.bcgeldrop.nl
SUMMARY:Seniorentraining
DESCRIPTION:
URL:https://www.bcgeldrop.nl/activiteit/seniorentraining-464/
LOCATION:Sporthal De Kievit\, Linze 13\, Geldrop\, 5667AH\, Nederland
CATEGORIES:Trainingen senioren
END:VEVENT
BEGIN:VEVENT
DTSTART;TZID=Europe/Amsterdam:20250407T174500
DTEND;TZID=Europe/Amsterdam:20250407T190000
DTSTAMP:20260426T002529
CREATED:20241014T094351Z
LAST-MODIFIED:20250102T150518Z
UID:19170-1744047900-1744052400@www.bcgeldrop.nl
SUMMARY:Jeugdtraining
DESCRIPTION:
URL:https://www.bcgeldrop.nl/activiteit/jeugdtraining-461/
LOCATION:Sporthal De Kievit\, Linze 13\, Geldrop\, 5667AH\, Nederland
CATEGORIES:Trainingen jeugd
END:VEVENT
BEGIN:VEVENT
DTSTART;TZID=Europe/Amsterdam:20250403T203000
DTEND;TZID=Europe/Amsterdam:20250403T230000
DTSTAMP:20260426T002529
CREATED:20250102T144705Z
LAST-MODIFIED:20250102T144705Z
UID:19465-1743712200-1743721200@www.bcgeldrop.nl
SUMMARY:Vrij spelen
DESCRIPTION:Halve hal vanaf 22:30
URL:https://www.bcgeldrop.nl/activiteit/vrij-spelen-408/
LOCATION:Sporthal De Kievit\, Linze 13\, Geldrop\, 5667AH\, Nederland
CATEGORIES:Vrij spelen
END:VEVENT
BEGIN:VEVENT
DTSTART;TZID=Europe/Amsterdam:20250403T190000
DTEND;TZID=Europe/Amsterdam:20250403T203000
DTSTAMP:20260426T002529
CREATED:20250102T144208Z
LAST-MODIFIED:20250102T144208Z
UID:19440-1743706800-1743712200@www.bcgeldrop.nl
SUMMARY:Seniorentraining
DESCRIPTION:
URL:https://www.bcgeldrop.nl/activiteit/seniorentraining-503/
LOCATION:Sporthal De Kievit\, Linze 13\, Geldrop\, 5667AH\, Nederland
CATEGORIES:Trainingen senioren
END:VEVENT
BEGIN:VEVENT
DTSTART;TZID=Europe/Amsterdam:20250403T164500
DTEND;TZID=Europe/Amsterdam:20250403T203000
DTSTAMP:20260426T002529
CREATED:20250102T144112Z
LAST-MODIFIED:20250102T144112Z
UID:19418-1743698700-1743712200@www.bcgeldrop.nl
SUMMARY:Jeugdtraining
DESCRIPTION:
URL:https://www.bcgeldrop.nl/activiteit/jeugdtraining-490/
LOCATION:Sporthal De Kievit\, Linze 13\, Geldrop\, 5667AH\, Nederland
CATEGORIES:Trainingen jeugd
END:VEVENT
BEGIN:VEVENT
DTSTART;TZID=Europe/Amsterdam:20250331T203000
DTEND;TZID=Europe/Amsterdam:20250331T230000
DTSTAMP:20260426T002529
CREATED:20241014T100618Z
LAST-MODIFIED:20250102T170332Z
UID:19206-1743453000-1743462000@www.bcgeldrop.nl
SUMMARY:Vrij spelen
DESCRIPTION:Halve hal vanaf 22:30
URL:https://www.bcgeldrop.nl/activiteit/vrij-spelen-368/
LOCATION:Sporthal De Kievit\, Linze 13\, Geldrop\, 5667AH\, Nederland
CATEGORIES:Vrij spelen
END:VEVENT
BEGIN:VEVENT
DTSTART;TZID=Europe/Amsterdam:20250331T190000
DTEND;TZID=Europe/Amsterdam:20250331T203000
DTSTAMP:20260426T002529
CREATED:20241014T093033Z
LAST-MODIFIED:20250102T165046Z
UID:19131-1743447600-1743453000@www.bcgeldrop.nl
SUMMARY:Seniorentraining
DESCRIPTION:
URL:https://www.bcgeldrop.nl/activiteit/seniorentraining-463/
LOCATION:Sporthal De Kievit\, Linze 13\, Geldrop\, 5667AH\, Nederland
CATEGORIES:Trainingen senioren
END:VEVENT
BEGIN:VEVENT
DTSTART;TZID=Europe/Amsterdam:20250331T174500
DTEND;TZID=Europe/Amsterdam:20250331T190000
DTSTAMP:20260426T002529
CREATED:20241014T094151Z
LAST-MODIFIED:20250102T150518Z
UID:19169-1743443100-1743447600@www.bcgeldrop.nl
SUMMARY:Jeugdtraining
DESCRIPTION:
URL:https://www.bcgeldrop.nl/activiteit/jeugdtraining-460/
LOCATION:Sporthal De Kievit\, Linze 13\, Geldrop\, 5667AH\, Nederland
CATEGORIES:Trainingen jeugd
END:VEVENT
BEGIN:VEVENT
DTSTART;TZID=Europe/Amsterdam:20250329T084500
DTEND;TZID=Europe/Amsterdam:20250329T101500
DTSTAMP:20260426T002529
CREATED:20250102T150613Z
LAST-MODIFIED:20250102T150613Z
UID:19516-1743237900-1743243300@www.bcgeldrop.nl
SUMMARY:Seniorentraining
DESCRIPTION:
URL:https://www.bcgeldrop.nl/activiteit/seniorentraining-521/
LOCATION:Sporthal De Kievit\, Linze 13\, Geldrop\, 5667AH\, Nederland
CATEGORIES:Trainingen senioren
END:VEVENT
BEGIN:VEVENT
DTSTART;TZID=Europe/Amsterdam:20250327T203000
DTEND;TZID=Europe/Amsterdam:20250327T230000
DTSTAMP:20260426T002529
CREATED:20250102T144704Z
LAST-MODIFIED:20250102T144704Z
UID:19464-1743107400-1743116400@www.bcgeldrop.nl
SUMMARY:Vrij spelen
DESCRIPTION:Halve hal vanaf 22:30
URL:https://www.bcgeldrop.nl/activiteit/vrij-spelen-407/
LOCATION:Sporthal De Kievit\, Linze 13\, Geldrop\, 5667AH\, Nederland
CATEGORIES:Vrij spelen
END:VEVENT
BEGIN:VEVENT
DTSTART;TZID=Europe/Amsterdam:20250327T190000
DTEND;TZID=Europe/Amsterdam:20250327T203000
DTSTAMP:20260426T002529
CREATED:20250102T144207Z
LAST-MODIFIED:20250102T144207Z
UID:19439-1743102000-1743107400@www.bcgeldrop.nl
SUMMARY:Seniorentraining
DESCRIPTION:
URL:https://www.bcgeldrop.nl/activiteit/seniorentraining-502/
LOCATION:Sporthal De Kievit\, Linze 13\, Geldrop\, 5667AH\, Nederland
CATEGORIES:Trainingen senioren
END:VEVENT
BEGIN:VEVENT
DTSTART;TZID=Europe/Amsterdam:20250327T164500
DTEND;TZID=Europe/Amsterdam:20250327T203000
DTSTAMP:20260426T002529
CREATED:20250102T144112Z
LAST-MODIFIED:20250102T144112Z
UID:19417-1743093900-1743107400@www.bcgeldrop.nl
SUMMARY:Jeugdtraining
DESCRIPTION:
URL:https://www.bcgeldrop.nl/activiteit/jeugdtraining-489/
LOCATION:Sporthal De Kievit\, Linze 13\, Geldrop\, 5667AH\, Nederland
CATEGORIES:Trainingen jeugd
END:VEVENT
BEGIN:VEVENT
DTSTART;TZID=Europe/Amsterdam:20250324T203000
DTEND;TZID=Europe/Amsterdam:20250324T230000
DTSTAMP:20260426T002529
CREATED:20241014T100617Z
LAST-MODIFIED:20250102T170332Z
UID:19205-1742848200-1742857200@www.bcgeldrop.nl
SUMMARY:Vrij spelen
DESCRIPTION:Halve hal vanaf 22:30
URL:https://www.bcgeldrop.nl/activiteit/vrij-spelen-367/
LOCATION:Sporthal De Kievit\, Linze 13\, Geldrop\, 5667AH\, Nederland
CATEGORIES:Vrij spelen
END:VEVENT
BEGIN:VEVENT
DTSTART;TZID=Europe/Amsterdam:20250324T190000
DTEND;TZID=Europe/Amsterdam:20250324T203000
DTSTAMP:20260426T002529
CREATED:20241014T093032Z
LAST-MODIFIED:20250102T165046Z
UID:19130-1742842800-1742848200@www.bcgeldrop.nl
SUMMARY:Seniorentraining
DESCRIPTION:
URL:https://www.bcgeldrop.nl/activiteit/seniorentraining-462/
LOCATION:Sporthal De Kievit\, Linze 13\, Geldrop\, 5667AH\, Nederland
CATEGORIES:Trainingen senioren
END:VEVENT
BEGIN:VEVENT
DTSTART;TZID=Europe/Amsterdam:20250324T174500
DTEND;TZID=Europe/Amsterdam:20250324T190000
DTSTAMP:20260426T002529
CREATED:20241014T094151Z
LAST-MODIFIED:20250102T150518Z
UID:19168-1742838300-1742842800@www.bcgeldrop.nl
SUMMARY:Jeugdtraining
DESCRIPTION:
URL:https://www.bcgeldrop.nl/activiteit/jeugdtraining-459/
LOCATION:Sporthal De Kievit\, Linze 13\, Geldrop\, 5667AH\, Nederland
CATEGORIES:Trainingen jeugd
END:VEVENT
BEGIN:VEVENT
DTSTART;TZID=Europe/Amsterdam:20250322T084500
DTEND;TZID=Europe/Amsterdam:20250322T101500
DTSTAMP:20260426T002529
CREATED:20250102T150609Z
LAST-MODIFIED:20250102T150609Z
UID:19515-1742633100-1742638500@www.bcgeldrop.nl
SUMMARY:Seniorentraining
DESCRIPTION:
URL:https://www.bcgeldrop.nl/activiteit/seniorentraining-520/
LOCATION:Sporthal De Kievit\, Linze 13\, Geldrop\, 5667AH\, Nederland
CATEGORIES:Trainingen senioren
END:VEVENT
BEGIN:VEVENT
DTSTART;TZID=Europe/Amsterdam:20250320T203000
DTEND;TZID=Europe/Amsterdam:20250320T230000
DTSTAMP:20260426T002529
CREATED:20250102T144704Z
LAST-MODIFIED:20250102T144704Z
UID:19463-1742502600-1742511600@www.bcgeldrop.nl
SUMMARY:Vrij spelen
DESCRIPTION:Halve hal vanaf 22:30
URL:https://www.bcgeldrop.nl/activiteit/vrij-spelen-406/
LOCATION:Sporthal De Kievit\, Linze 13\, Geldrop\, 5667AH\, Nederland
CATEGORIES:Vrij spelen
END:VEVENT
BEGIN:VEVENT
DTSTART;TZID=Europe/Amsterdam:20250320T190000
DTEND;TZID=Europe/Amsterdam:20250320T203000
DTSTAMP:20260426T002529
CREATED:20250102T144207Z
LAST-MODIFIED:20250102T144207Z
UID:19438-1742497200-1742502600@www.bcgeldrop.nl
SUMMARY:Seniorentraining
DESCRIPTION:
URL:https://www.bcgeldrop.nl/activiteit/seniorentraining-501/
LOCATION:Sporthal De Kievit\, Linze 13\, Geldrop\, 5667AH\, Nederland
CATEGORIES:Trainingen senioren
END:VEVENT
BEGIN:VEVENT
DTSTART;TZID=Europe/Amsterdam:20250320T164500
DTEND;TZID=Europe/Amsterdam:20250320T203000
DTSTAMP:20260426T002529
CREATED:20250102T144109Z
LAST-MODIFIED:20250102T144109Z
UID:19416-1742489100-1742502600@www.bcgeldrop.nl
SUMMARY:Jeugdtraining
DESCRIPTION:
URL:https://www.bcgeldrop.nl/activiteit/jeugdtraining-488/
LOCATION:Sporthal De Kievit\, Linze 13\, Geldrop\, 5667AH\, Nederland
CATEGORIES:Trainingen jeugd
END:VEVENT
END:VCALENDAR