BEGIN:VCALENDAR
VERSION:2.0
PRODID:-//Badmintonclub Geldrop - ECPv6.15.20//NONSGML v1.0//EN
CALSCALE:GREGORIAN
METHOD:PUBLISH
X-ORIGINAL-URL:https://www.bcgeldrop.nl
X-WR-CALDESC:Evenementen voor Badmintonclub Geldrop
REFRESH-INTERVAL;VALUE=DURATION:PT1H
X-Robots-Tag:noindex
X-PUBLISHED-TTL:PT1H
BEGIN:VTIMEZONE
TZID:Europe/Amsterdam
BEGIN:DAYLIGHT
TZOFFSETFROM:+0100
TZOFFSETTO:+0200
TZNAME:CEST
DTSTART:20240331T010000
END:DAYLIGHT
BEGIN:STANDARD
TZOFFSETFROM:+0200
TZOFFSETTO:+0100
TZNAME:CET
DTSTART:20241027T010000
END:STANDARD
BEGIN:DAYLIGHT
TZOFFSETFROM:+0100
TZOFFSETTO:+0200
TZNAME:CEST
DTSTART:20250330T010000
END:DAYLIGHT
BEGIN:STANDARD
TZOFFSETFROM:+0200
TZOFFSETTO:+0100
TZNAME:CET
DTSTART:20251026T010000
END:STANDARD
BEGIN:DAYLIGHT
TZOFFSETFROM:+0100
TZOFFSETTO:+0200
TZNAME:CEST
DTSTART:20260329T010000
END:DAYLIGHT
BEGIN:STANDARD
TZOFFSETFROM:+0200
TZOFFSETTO:+0100
TZNAME:CET
DTSTART:20261025T010000
END:STANDARD
END:VTIMEZONE
BEGIN:VEVENT
DTSTART;TZID=Europe/Amsterdam:20250519T203000
DTEND;TZID=Europe/Amsterdam:20250519T230000
DTSTAMP:20260425T212906
CREATED:20241014T100819Z
LAST-MODIFIED:20250102T170533Z
UID:19211-1747686600-1747695600@www.bcgeldrop.nl
SUMMARY:Vrij spelen
DESCRIPTION:Halve hal vanaf 22:30
URL:https://www.bcgeldrop.nl/activiteit/vrij-spelen-373/
LOCATION:Sporthal De Kievit\, Linze 13\, Geldrop\, 5667AH\, Nederland
CATEGORIES:Vrij spelen
END:VEVENT
BEGIN:VEVENT
DTSTART;TZID=Europe/Amsterdam:20250519T190000
DTEND;TZID=Europe/Amsterdam:20250519T203000
DTSTAMP:20260425T212906
CREATED:20241014T093234Z
LAST-MODIFIED:20250102T165247Z
UID:19136-1747681200-1747686600@www.bcgeldrop.nl
SUMMARY:Seniorentraining
DESCRIPTION:
URL:https://www.bcgeldrop.nl/activiteit/seniorentraining-468/
LOCATION:Sporthal De Kievit\, Linze 13\, Geldrop\, 5667AH\, Nederland
CATEGORIES:Trainingen senioren
END:VEVENT
BEGIN:VEVENT
DTSTART;TZID=Europe/Amsterdam:20250519T174500
DTEND;TZID=Europe/Amsterdam:20250519T190000
DTSTAMP:20260425T212906
CREATED:20241014T094352Z
LAST-MODIFIED:20250102T150533Z
UID:19173-1747676700-1747681200@www.bcgeldrop.nl
SUMMARY:Jeugdtraining
DESCRIPTION:
URL:https://www.bcgeldrop.nl/activiteit/jeugdtraining-464/
LOCATION:Sporthal De Kievit\, Linze 13\, Geldrop\, 5667AH\, Nederland
CATEGORIES:Trainingen jeugd
END:VEVENT
BEGIN:VEVENT
DTSTART;TZID=Europe/Amsterdam:20250517T084500
DTEND;TZID=Europe/Amsterdam:20250517T101500
DTSTAMP:20260425T212906
CREATED:20250102T150613Z
LAST-MODIFIED:20250102T150613Z
UID:19519-1747471500-1747476900@www.bcgeldrop.nl
SUMMARY:Seniorentraining
DESCRIPTION:
URL:https://www.bcgeldrop.nl/activiteit/seniorentraining-524/
LOCATION:Sporthal De Kievit\, Linze 13\, Geldrop\, 5667AH\, Nederland
CATEGORIES:Trainingen senioren
END:VEVENT
BEGIN:VEVENT
DTSTART;TZID=Europe/Amsterdam:20250515T203000
DTEND;TZID=Europe/Amsterdam:20250515T230000
DTSTAMP:20260425T212906
CREATED:20250102T144905Z
LAST-MODIFIED:20250102T144905Z
UID:19471-1747341000-1747350000@www.bcgeldrop.nl
SUMMARY:Vrij spelen
DESCRIPTION:Halve hal vanaf 22:30
URL:https://www.bcgeldrop.nl/activiteit/vrij-spelen-414/
LOCATION:Sporthal De Kievit\, Linze 13\, Geldrop\, 5667AH\, Nederland
CATEGORIES:Vrij spelen
END:VEVENT
BEGIN:VEVENT
DTSTART;TZID=Europe/Amsterdam:20250515T190000
DTEND;TZID=Europe/Amsterdam:20250515T203000
DTSTAMP:20260425T212906
CREATED:20250102T144223Z
LAST-MODIFIED:20250102T144223Z
UID:19446-1747335600-1747341000@www.bcgeldrop.nl
SUMMARY:Seniorentraining
DESCRIPTION:
URL:https://www.bcgeldrop.nl/activiteit/seniorentraining-509/
LOCATION:Sporthal De Kievit\, Linze 13\, Geldrop\, 5667AH\, Nederland
CATEGORIES:Trainingen senioren
END:VEVENT
BEGIN:VEVENT
DTSTART;TZID=Europe/Amsterdam:20250515T164500
DTEND;TZID=Europe/Amsterdam:20250515T203000
DTSTAMP:20260425T212906
CREATED:20250102T144130Z
LAST-MODIFIED:20250102T144130Z
UID:19422-1747327500-1747341000@www.bcgeldrop.nl
SUMMARY:Jeugdtraining
DESCRIPTION:
URL:https://www.bcgeldrop.nl/activiteit/jeugdtraining-494/
LOCATION:Sporthal De Kievit\, Linze 13\, Geldrop\, 5667AH\, Nederland
CATEGORIES:Trainingen jeugd
END:VEVENT
BEGIN:VEVENT
DTSTART;TZID=Europe/Amsterdam:20250512T203000
DTEND;TZID=Europe/Amsterdam:20250512T230000
DTSTAMP:20260425T212906
CREATED:20241014T100819Z
LAST-MODIFIED:20250102T170533Z
UID:19210-1747081800-1747090800@www.bcgeldrop.nl
SUMMARY:Vrij spelen
DESCRIPTION:Halve hal vanaf 22:30
URL:https://www.bcgeldrop.nl/activiteit/vrij-spelen-372/
LOCATION:Sporthal De Kievit\, Linze 13\, Geldrop\, 5667AH\, Nederland
CATEGORIES:Vrij spelen
END:VEVENT
BEGIN:VEVENT
DTSTART;TZID=Europe/Amsterdam:20250512T190000
DTEND;TZID=Europe/Amsterdam:20250512T203000
DTSTAMP:20260425T212906
CREATED:20241014T093233Z
LAST-MODIFIED:20250102T165247Z
UID:19135-1747076400-1747081800@www.bcgeldrop.nl
SUMMARY:Seniorentraining
DESCRIPTION:
URL:https://www.bcgeldrop.nl/activiteit/seniorentraining-467/
LOCATION:Sporthal De Kievit\, Linze 13\, Geldrop\, 5667AH\, Nederland
CATEGORIES:Trainingen senioren
END:VEVENT
BEGIN:VEVENT
DTSTART;TZID=Europe/Amsterdam:20250512T174500
DTEND;TZID=Europe/Amsterdam:20250512T190000
DTSTAMP:20260425T212906
CREATED:20241014T094352Z
LAST-MODIFIED:20250102T150533Z
UID:19172-1747071900-1747076400@www.bcgeldrop.nl
SUMMARY:Jeugdtraining
DESCRIPTION:
URL:https://www.bcgeldrop.nl/activiteit/jeugdtraining-463/
LOCATION:Sporthal De Kievit\, Linze 13\, Geldrop\, 5667AH\, Nederland
CATEGORIES:Trainingen jeugd
END:VEVENT
BEGIN:VEVENT
DTSTART;TZID=Europe/Amsterdam:20250510T084500
DTEND;TZID=Europe/Amsterdam:20250510T101500
DTSTAMP:20260425T212906
CREATED:20250102T150613Z
LAST-MODIFIED:20250102T150613Z
UID:19518-1746866700-1746872100@www.bcgeldrop.nl
SUMMARY:Seniorentraining
DESCRIPTION:
URL:https://www.bcgeldrop.nl/activiteit/seniorentraining-523/
LOCATION:Sporthal De Kievit\, Linze 13\, Geldrop\, 5667AH\, Nederland
CATEGORIES:Trainingen senioren
END:VEVENT
BEGIN:VEVENT
DTSTART;TZID=Europe/Amsterdam:20250508T203000
DTEND;TZID=Europe/Amsterdam:20250508T230000
DTSTAMP:20260425T212906
CREATED:20250102T144905Z
LAST-MODIFIED:20250102T144905Z
UID:19470-1746736200-1746745200@www.bcgeldrop.nl
SUMMARY:Vrij spelen
DESCRIPTION:Halve hal vanaf 22:30
URL:https://www.bcgeldrop.nl/activiteit/vrij-spelen-413/
LOCATION:Sporthal De Kievit\, Linze 13\, Geldrop\, 5667AH\, Nederland
CATEGORIES:Vrij spelen
END:VEVENT
BEGIN:VEVENT
DTSTART;TZID=Europe/Amsterdam:20250508T190000
DTEND;TZID=Europe/Amsterdam:20250508T203000
DTSTAMP:20260425T212906
CREATED:20250102T144223Z
LAST-MODIFIED:20250102T144223Z
UID:19445-1746730800-1746736200@www.bcgeldrop.nl
SUMMARY:Seniorentraining
DESCRIPTION:
URL:https://www.bcgeldrop.nl/activiteit/seniorentraining-508/
LOCATION:Sporthal De Kievit\, Linze 13\, Geldrop\, 5667AH\, Nederland
CATEGORIES:Trainingen senioren
END:VEVENT
BEGIN:VEVENT
DTSTART;TZID=Europe/Amsterdam:20250508T164500
DTEND;TZID=Europe/Amsterdam:20250508T203000
DTSTAMP:20260425T212906
CREATED:20250102T144113Z
LAST-MODIFIED:20250102T144113Z
UID:19421-1746722700-1746736200@www.bcgeldrop.nl
SUMMARY:Jeugdtraining
DESCRIPTION:
URL:https://www.bcgeldrop.nl/activiteit/jeugdtraining-493/
LOCATION:Sporthal De Kievit\, Linze 13\, Geldrop\, 5667AH\, Nederland
CATEGORIES:Trainingen jeugd
END:VEVENT
BEGIN:VEVENT
DTSTART;TZID=Europe/Amsterdam:20250501T203000
DTEND;TZID=Europe/Amsterdam:20250501T230000
DTSTAMP:20260425T212906
CREATED:20250102T144905Z
LAST-MODIFIED:20250102T144905Z
UID:19469-1746131400-1746140400@www.bcgeldrop.nl
SUMMARY:Vrij spelen
DESCRIPTION:Halve hal vanaf 22:30
URL:https://www.bcgeldrop.nl/activiteit/vrij-spelen-412/
LOCATION:Sporthal De Kievit\, Linze 13\, Geldrop\, 5667AH\, Nederland
CATEGORIES:Vrij spelen
END:VEVENT
BEGIN:VEVENT
DTSTART;TZID=Europe/Amsterdam:20250501T190000
DTEND;TZID=Europe/Amsterdam:20250501T203000
DTSTAMP:20260425T212906
CREATED:20250102T144223Z
LAST-MODIFIED:20250102T144223Z
UID:19444-1746126000-1746131400@www.bcgeldrop.nl
SUMMARY:Seniorentraining
DESCRIPTION:
URL:https://www.bcgeldrop.nl/activiteit/seniorentraining-507/
LOCATION:Sporthal De Kievit\, Linze 13\, Geldrop\, 5667AH\, Nederland
CATEGORIES:Trainingen senioren
END:VEVENT
BEGIN:VEVENT
DTSTART;TZID=Europe/Amsterdam:20250428T203000
DTEND;TZID=Europe/Amsterdam:20250428T230000
DTSTAMP:20260425T212906
CREATED:20241014T100618Z
LAST-MODIFIED:20250102T170533Z
UID:19209-1745872200-1745881200@www.bcgeldrop.nl
SUMMARY:Vrij spelen
DESCRIPTION:Halve hal vanaf 22:30
URL:https://www.bcgeldrop.nl/activiteit/vrij-spelen-371/
LOCATION:Sporthal De Kievit\, Linze 13\, Geldrop\, 5667AH\, Nederland
CATEGORIES:Vrij spelen
END:VEVENT
BEGIN:VEVENT
DTSTART;TZID=Europe/Amsterdam:20250428T190000
DTEND;TZID=Europe/Amsterdam:20250428T203000
DTSTAMP:20260425T212906
CREATED:20241014T093034Z
LAST-MODIFIED:20250102T165047Z
UID:19134-1745866800-1745872200@www.bcgeldrop.nl
SUMMARY:Seniorentraining
DESCRIPTION:
URL:https://www.bcgeldrop.nl/activiteit/seniorentraining-466/
LOCATION:Sporthal De Kievit\, Linze 13\, Geldrop\, 5667AH\, Nederland
CATEGORIES:Trainingen senioren
END:VEVENT
BEGIN:VEVENT
DTSTART;TZID=Europe/Amsterdam:20250424T203000
DTEND;TZID=Europe/Amsterdam:20250424T230000
DTSTAMP:20260425T212906
CREATED:20250102T144904Z
LAST-MODIFIED:20250102T144904Z
UID:19468-1745526600-1745535600@www.bcgeldrop.nl
SUMMARY:Vrij spelen
DESCRIPTION:Halve hal vanaf 22:30
URL:https://www.bcgeldrop.nl/activiteit/vrij-spelen-411/
LOCATION:Sporthal De Kievit\, Linze 13\, Geldrop\, 5667AH\, Nederland
CATEGORIES:Vrij spelen
END:VEVENT
BEGIN:VEVENT
DTSTART;TZID=Europe/Amsterdam:20250424T190000
DTEND;TZID=Europe/Amsterdam:20250424T203000
DTSTAMP:20260425T212906
CREATED:20250102T144222Z
LAST-MODIFIED:20250102T144222Z
UID:19443-1745521200-1745526600@www.bcgeldrop.nl
SUMMARY:Seniorentraining
DESCRIPTION:
URL:https://www.bcgeldrop.nl/activiteit/seniorentraining-506/
LOCATION:Sporthal De Kievit\, Linze 13\, Geldrop\, 5667AH\, Nederland
CATEGORIES:Trainingen senioren
END:VEVENT
BEGIN:VEVENT
DTSTART;TZID=Europe/Amsterdam:20250419T084500
DTEND;TZID=Europe/Amsterdam:20250419T101500
DTSTAMP:20260425T212906
CREATED:20250102T150613Z
LAST-MODIFIED:20250102T150613Z
UID:19517-1745052300-1745057700@www.bcgeldrop.nl
SUMMARY:Seniorentraining
DESCRIPTION:
URL:https://www.bcgeldrop.nl/activiteit/seniorentraining-522/
LOCATION:Sporthal De Kievit\, Linze 13\, Geldrop\, 5667AH\, Nederland
CATEGORIES:Trainingen senioren
END:VEVENT
BEGIN:VEVENT
DTSTART;TZID=Europe/Amsterdam:20250417T203000
DTEND;TZID=Europe/Amsterdam:20250417T230000
DTSTAMP:20260425T212906
CREATED:20250102T144904Z
LAST-MODIFIED:20250102T144904Z
UID:19467-1744921800-1744930800@www.bcgeldrop.nl
SUMMARY:Vrij spelen
DESCRIPTION:Halve hal vanaf 22:30
URL:https://www.bcgeldrop.nl/activiteit/vrij-spelen-410/
LOCATION:Sporthal De Kievit\, Linze 13\, Geldrop\, 5667AH\, Nederland
CATEGORIES:Vrij spelen
END:VEVENT
BEGIN:VEVENT
DTSTART;TZID=Europe/Amsterdam:20250417T190000
DTEND;TZID=Europe/Amsterdam:20250417T203000
DTSTAMP:20260425T212906
CREATED:20250102T144222Z
LAST-MODIFIED:20250102T144222Z
UID:19442-1744916400-1744921800@www.bcgeldrop.nl
SUMMARY:Seniorentraining
DESCRIPTION:
URL:https://www.bcgeldrop.nl/activiteit/seniorentraining-505/
LOCATION:Sporthal De Kievit\, Linze 13\, Geldrop\, 5667AH\, Nederland
CATEGORIES:Trainingen senioren
END:VEVENT
BEGIN:VEVENT
DTSTART;TZID=Europe/Amsterdam:20250417T164500
DTEND;TZID=Europe/Amsterdam:20250417T203000
DTSTAMP:20260425T212906
CREATED:20250102T144112Z
LAST-MODIFIED:20250102T144112Z
UID:19420-1744908300-1744921800@www.bcgeldrop.nl
SUMMARY:Jeugdtraining
DESCRIPTION:
URL:https://www.bcgeldrop.nl/activiteit/jeugdtraining-492/
LOCATION:Sporthal De Kievit\, Linze 13\, Geldrop\, 5667AH\, Nederland
CATEGORIES:Trainingen jeugd
END:VEVENT
BEGIN:VEVENT
DTSTART;TZID=Europe/Amsterdam:20250414T203000
DTEND;TZID=Europe/Amsterdam:20250414T230000
DTSTAMP:20260425T212906
CREATED:20241014T100618Z
LAST-MODIFIED:20250102T170533Z
UID:19208-1744662600-1744671600@www.bcgeldrop.nl
SUMMARY:Vrij spelen
DESCRIPTION:Halve hal vanaf 22:30
URL:https://www.bcgeldrop.nl/activiteit/vrij-spelen-370/
LOCATION:Sporthal De Kievit\, Linze 13\, Geldrop\, 5667AH\, Nederland
CATEGORIES:Vrij spelen
END:VEVENT
BEGIN:VEVENT
DTSTART;TZID=Europe/Amsterdam:20250414T190000
DTEND;TZID=Europe/Amsterdam:20250414T203000
DTSTAMP:20260425T212906
CREATED:20241014T093033Z
LAST-MODIFIED:20250102T165047Z
UID:19133-1744657200-1744662600@www.bcgeldrop.nl
SUMMARY:Seniorentraining
DESCRIPTION:
URL:https://www.bcgeldrop.nl/activiteit/seniorentraining-465/
LOCATION:Sporthal De Kievit\, Linze 13\, Geldrop\, 5667AH\, Nederland
CATEGORIES:Trainingen senioren
END:VEVENT
BEGIN:VEVENT
DTSTART;TZID=Europe/Amsterdam:20250414T174500
DTEND;TZID=Europe/Amsterdam:20250414T190000
DTSTAMP:20260425T212906
CREATED:20241014T094352Z
LAST-MODIFIED:20250102T150518Z
UID:19171-1744652700-1744657200@www.bcgeldrop.nl
SUMMARY:Jeugdtraining
DESCRIPTION:
URL:https://www.bcgeldrop.nl/activiteit/jeugdtraining-462/
LOCATION:Sporthal De Kievit\, Linze 13\, Geldrop\, 5667AH\, Nederland
CATEGORIES:Trainingen jeugd
END:VEVENT
BEGIN:VEVENT
DTSTART;TZID=Europe/Amsterdam:20250410T203000
DTEND;TZID=Europe/Amsterdam:20250410T230000
DTSTAMP:20260425T212906
CREATED:20250102T144705Z
LAST-MODIFIED:20250102T144705Z
UID:19466-1744317000-1744326000@www.bcgeldrop.nl
SUMMARY:Vrij spelen
DESCRIPTION:Halve hal vanaf 22:30
URL:https://www.bcgeldrop.nl/activiteit/vrij-spelen-409/
LOCATION:Sporthal De Kievit\, Linze 13\, Geldrop\, 5667AH\, Nederland
CATEGORIES:Vrij spelen
END:VEVENT
BEGIN:VEVENT
DTSTART;TZID=Europe/Amsterdam:20250410T190000
DTEND;TZID=Europe/Amsterdam:20250410T203000
DTSTAMP:20260425T212906
CREATED:20250102T144208Z
LAST-MODIFIED:20250102T144208Z
UID:19441-1744311600-1744317000@www.bcgeldrop.nl
SUMMARY:Seniorentraining
DESCRIPTION:
URL:https://www.bcgeldrop.nl/activiteit/seniorentraining-504/
LOCATION:Sporthal De Kievit\, Linze 13\, Geldrop\, 5667AH\, Nederland
CATEGORIES:Trainingen senioren
END:VEVENT
BEGIN:VEVENT
DTSTART;TZID=Europe/Amsterdam:20250410T164500
DTEND;TZID=Europe/Amsterdam:20250410T203000
DTSTAMP:20260425T212906
CREATED:20250102T144112Z
LAST-MODIFIED:20250102T144112Z
UID:19419-1744303500-1744317000@www.bcgeldrop.nl
SUMMARY:Jeugdtraining
DESCRIPTION:
URL:https://www.bcgeldrop.nl/activiteit/jeugdtraining-491/
LOCATION:Sporthal De Kievit\, Linze 13\, Geldrop\, 5667AH\, Nederland
CATEGORIES:Trainingen jeugd
END:VEVENT
END:VCALENDAR