BEGIN:VCALENDAR
VERSION:2.0
PRODID:-//Badmintonclub Geldrop - ECPv6.15.20//NONSGML v1.0//EN
CALSCALE:GREGORIAN
METHOD:PUBLISH
X-ORIGINAL-URL:https://www.bcgeldrop.nl
X-WR-CALDESC:Evenementen voor Badmintonclub Geldrop
REFRESH-INTERVAL;VALUE=DURATION:PT1H
X-Robots-Tag:noindex
X-PUBLISHED-TTL:PT1H
BEGIN:VTIMEZONE
TZID:Europe/Amsterdam
BEGIN:DAYLIGHT
TZOFFSETFROM:+0100
TZOFFSETTO:+0200
TZNAME:CEST
DTSTART:20240331T010000
END:DAYLIGHT
BEGIN:STANDARD
TZOFFSETFROM:+0200
TZOFFSETTO:+0100
TZNAME:CET
DTSTART:20241027T010000
END:STANDARD
BEGIN:DAYLIGHT
TZOFFSETFROM:+0100
TZOFFSETTO:+0200
TZNAME:CEST
DTSTART:20250330T010000
END:DAYLIGHT
BEGIN:STANDARD
TZOFFSETFROM:+0200
TZOFFSETTO:+0100
TZNAME:CET
DTSTART:20251026T010000
END:STANDARD
BEGIN:DAYLIGHT
TZOFFSETFROM:+0100
TZOFFSETTO:+0200
TZNAME:CEST
DTSTART:20260329T010000
END:DAYLIGHT
BEGIN:STANDARD
TZOFFSETFROM:+0200
TZOFFSETTO:+0100
TZNAME:CET
DTSTART:20261025T010000
END:STANDARD
END:VTIMEZONE
BEGIN:VEVENT
DTSTART;TZID=Europe/Amsterdam:20250619T164500
DTEND;TZID=Europe/Amsterdam:20250619T203000
DTSTAMP:20260425T183735
CREATED:20250102T144131Z
LAST-MODIFIED:20250102T144131Z
UID:19426-1750351500-1750365000@www.bcgeldrop.nl
SUMMARY:Jeugdtraining
DESCRIPTION:
URL:https://www.bcgeldrop.nl/activiteit/jeugdtraining-498/
LOCATION:Sporthal De Kievit\, Linze 13\, Geldrop\, 5667AH\, Nederland
CATEGORIES:Trainingen jeugd
END:VEVENT
BEGIN:VEVENT
DTSTART;TZID=Europe/Amsterdam:20250616T203000
DTEND;TZID=Europe/Amsterdam:20250616T230000
DTSTAMP:20260425T183735
CREATED:20241014T100820Z
LAST-MODIFIED:20250102T170734Z
UID:19214-1750105800-1750114800@www.bcgeldrop.nl
SUMMARY:Vrij spelen
DESCRIPTION:Halve hal de hele avond\, gasten kunnen gratis spelen
URL:https://www.bcgeldrop.nl/activiteit/vrij-spelen-376/
LOCATION:Sporthal De Kievit\, Linze 13\, Geldrop\, 5667AH\, Nederland
CATEGORIES:Vrij spelen
END:VEVENT
BEGIN:VEVENT
DTSTART;TZID=Europe/Amsterdam:20250616T190000
DTEND;TZID=Europe/Amsterdam:20250616T203000
DTSTAMP:20260425T183735
CREATED:20241014T093234Z
LAST-MODIFIED:20250102T165248Z
UID:19139-1750100400-1750105800@www.bcgeldrop.nl
SUMMARY:Seniorentraining
DESCRIPTION:
URL:https://www.bcgeldrop.nl/activiteit/seniorentraining-471/
LOCATION:Sporthal De Kievit\, Linze 13\, Geldrop\, 5667AH\, Nederland
CATEGORIES:Trainingen senioren
END:VEVENT
BEGIN:VEVENT
DTSTART;TZID=Europe/Amsterdam:20250614T084500
DTEND;TZID=Europe/Amsterdam:20250614T101500
DTSTAMP:20260425T183735
CREATED:20250102T150628Z
LAST-MODIFIED:20250102T150628Z
UID:19522-1749890700-1749896100@www.bcgeldrop.nl
SUMMARY:Seniorentraining
DESCRIPTION:
URL:https://www.bcgeldrop.nl/activiteit/seniorentraining-527/
LOCATION:Sporthal De Kievit\, Linze 13\, Geldrop\, 5667AH\, Nederland
CATEGORIES:Trainingen senioren
END:VEVENT
BEGIN:VEVENT
DTSTART;TZID=Europe/Amsterdam:20250612T203000
DTEND;TZID=Europe/Amsterdam:20250612T230000
DTSTAMP:20260425T183735
CREATED:20250102T145105Z
LAST-MODIFIED:20250102T145105Z
UID:19474-1749760200-1749769200@www.bcgeldrop.nl
SUMMARY:Vrij spelen
DESCRIPTION:Halve hal de hele avond\, gasten kunnen gratis spelen
URL:https://www.bcgeldrop.nl/activiteit/vrij-spelen-417/
LOCATION:Sporthal De Kievit\, Linze 13\, Geldrop\, 5667AH\, Nederland
CATEGORIES:Vrij spelen
END:VEVENT
BEGIN:VEVENT
DTSTART;TZID=Europe/Amsterdam:20250612T190000
DTEND;TZID=Europe/Amsterdam:20250612T203000
DTSTAMP:20260425T183735
CREATED:20250102T144342Z
LAST-MODIFIED:20250102T144342Z
UID:19449-1749754800-1749760200@www.bcgeldrop.nl
SUMMARY:Seniorentraining
DESCRIPTION:
URL:https://www.bcgeldrop.nl/activiteit/seniorentraining-512/
LOCATION:Sporthal De Kievit\, Linze 13\, Geldrop\, 5667AH\, Nederland
CATEGORIES:Trainingen senioren
END:VEVENT
BEGIN:VEVENT
DTSTART;TZID=Europe/Amsterdam:20250612T164500
DTEND;TZID=Europe/Amsterdam:20250612T203000
DTSTAMP:20260425T183735
CREATED:20250102T144131Z
LAST-MODIFIED:20250102T144131Z
UID:19425-1749746700-1749760200@www.bcgeldrop.nl
SUMMARY:Jeugdtraining
DESCRIPTION:
URL:https://www.bcgeldrop.nl/activiteit/jeugdtraining-497/
LOCATION:Sporthal De Kievit\, Linze 13\, Geldrop\, 5667AH\, Nederland
CATEGORIES:Trainingen jeugd
END:VEVENT
BEGIN:VEVENT
DTSTART;TZID=Europe/Amsterdam:20250605T203000
DTEND;TZID=Europe/Amsterdam:20250605T230000
DTSTAMP:20260425T183735
CREATED:20250102T145104Z
LAST-MODIFIED:20250102T145104Z
UID:19473-1749155400-1749164400@www.bcgeldrop.nl
SUMMARY:Vrij spelen
DESCRIPTION:Halve hal de hele avond\, gasten kunnen gratis spelen
URL:https://www.bcgeldrop.nl/activiteit/vrij-spelen-416/
LOCATION:Sporthal De Kievit\, Linze 13\, Geldrop\, 5667AH\, Nederland
CATEGORIES:Vrij spelen
END:VEVENT
BEGIN:VEVENT
DTSTART;TZID=Europe/Amsterdam:20250605T190000
DTEND;TZID=Europe/Amsterdam:20250605T203000
DTSTAMP:20260425T183735
CREATED:20250102T144341Z
LAST-MODIFIED:20250102T144341Z
UID:19448-1749150000-1749155400@www.bcgeldrop.nl
SUMMARY:Seniorentraining
DESCRIPTION:
URL:https://www.bcgeldrop.nl/activiteit/seniorentraining-511/
LOCATION:Sporthal De Kievit\, Linze 13\, Geldrop\, 5667AH\, Nederland
CATEGORIES:Trainingen senioren
END:VEVENT
BEGIN:VEVENT
DTSTART;TZID=Europe/Amsterdam:20250605T174500
DTEND;TZID=Europe/Amsterdam:20250605T203000
DTSTAMP:20260425T183735
CREATED:20250102T144130Z
LAST-MODIFIED:20250102T144130Z
UID:19424-1749145500-1749155400@www.bcgeldrop.nl
SUMMARY:Jeugdtraining
DESCRIPTION:
URL:https://www.bcgeldrop.nl/activiteit/jeugdtraining-496/
LOCATION:Sporthal De Kievit\, Linze 13\, Geldrop\, 5667AH\, Nederland
CATEGORIES:Trainingen jeugd
END:VEVENT
BEGIN:VEVENT
DTSTART;TZID=Europe/Amsterdam:20250602T203000
DTEND;TZID=Europe/Amsterdam:20250602T230000
DTSTAMP:20260425T183735
CREATED:20241014T100819Z
LAST-MODIFIED:20250102T170734Z
UID:19213-1748896200-1748905200@www.bcgeldrop.nl
SUMMARY:Vrij spelen
DESCRIPTION:Halve hal de hele avond\, gasten kunnen gratis spelen
URL:https://www.bcgeldrop.nl/activiteit/vrij-spelen-375/
LOCATION:Sporthal De Kievit\, Linze 13\, Geldrop\, 5667AH\, Nederland
CATEGORIES:Vrij spelen
END:VEVENT
BEGIN:VEVENT
DTSTART;TZID=Europe/Amsterdam:20250602T190000
DTEND;TZID=Europe/Amsterdam:20250602T203000
DTSTAMP:20260425T183735
CREATED:20241014T093234Z
LAST-MODIFIED:20250102T165248Z
UID:19138-1748890800-1748896200@www.bcgeldrop.nl
SUMMARY:Seniorentraining
DESCRIPTION:
URL:https://www.bcgeldrop.nl/activiteit/seniorentraining-470/
LOCATION:Sporthal De Kievit\, Linze 13\, Geldrop\, 5667AH\, Nederland
CATEGORIES:Trainingen senioren
END:VEVENT
BEGIN:VEVENT
DTSTART;TZID=Europe/Amsterdam:20250531T084500
DTEND;TZID=Europe/Amsterdam:20250531T101500
DTSTAMP:20260425T183735
CREATED:20250102T150628Z
LAST-MODIFIED:20250102T150628Z
UID:19521-1748681100-1748686500@www.bcgeldrop.nl
SUMMARY:Seniorentraining
DESCRIPTION:
URL:https://www.bcgeldrop.nl/activiteit/seniorentraining-526/
LOCATION:Sporthal De Kievit\, Linze 13\, Geldrop\, 5667AH\, Nederland
CATEGORIES:Trainingen senioren
END:VEVENT
BEGIN:VEVENT
DTSTART;TZID=Europe/Amsterdam:20250526T203000
DTEND;TZID=Europe/Amsterdam:20250526T230000
DTSTAMP:20260425T183735
CREATED:20241014T100819Z
LAST-MODIFIED:20250102T170734Z
UID:19212-1748291400-1748300400@www.bcgeldrop.nl
SUMMARY:Vrij spelen
DESCRIPTION:Halve hal vanaf 22:30
URL:https://www.bcgeldrop.nl/activiteit/vrij-spelen-374/
LOCATION:Sporthal De Kievit\, Linze 13\, Geldrop\, 5667AH\, Nederland
CATEGORIES:Vrij spelen
END:VEVENT
BEGIN:VEVENT
DTSTART;TZID=Europe/Amsterdam:20250526T190000
DTEND;TZID=Europe/Amsterdam:20250526T203000
DTSTAMP:20260425T183735
CREATED:20241014T093234Z
LAST-MODIFIED:20250102T165248Z
UID:19137-1748286000-1748291400@www.bcgeldrop.nl
SUMMARY:Seniorentraining
DESCRIPTION:
URL:https://www.bcgeldrop.nl/activiteit/seniorentraining-469/
LOCATION:Sporthal De Kievit\, Linze 13\, Geldrop\, 5667AH\, Nederland
CATEGORIES:Trainingen senioren
END:VEVENT
BEGIN:VEVENT
DTSTART;TZID=Europe/Amsterdam:20250526T174500
DTEND;TZID=Europe/Amsterdam:20250526T190000
DTSTAMP:20260425T183735
CREATED:20241014T094352Z
LAST-MODIFIED:20250102T150533Z
UID:19174-1748281500-1748286000@www.bcgeldrop.nl
SUMMARY:Jeugdtraining
DESCRIPTION:
URL:https://www.bcgeldrop.nl/activiteit/jeugdtraining-465/
LOCATION:Sporthal De Kievit\, Linze 13\, Geldrop\, 5667AH\, Nederland
CATEGORIES:Trainingen jeugd
END:VEVENT
BEGIN:VEVENT
DTSTART;TZID=Europe/Amsterdam:20250524T084500
DTEND;TZID=Europe/Amsterdam:20250524T101500
DTSTAMP:20260425T183735
CREATED:20250102T150614Z
LAST-MODIFIED:20250102T150614Z
UID:19520-1748076300-1748081700@www.bcgeldrop.nl
SUMMARY:Seniorentraining
DESCRIPTION:
URL:https://www.bcgeldrop.nl/activiteit/seniorentraining-525/
LOCATION:Sporthal De Kievit\, Linze 13\, Geldrop\, 5667AH\, Nederland
CATEGORIES:Trainingen senioren
END:VEVENT
BEGIN:VEVENT
DTSTART;TZID=Europe/Amsterdam:20250522T203000
DTEND;TZID=Europe/Amsterdam:20250522T230000
DTSTAMP:20260425T183735
CREATED:20250102T145104Z
LAST-MODIFIED:20250102T145104Z
UID:19472-1747945800-1747954800@www.bcgeldrop.nl
SUMMARY:Vrij spelen
DESCRIPTION:Halve hal vanaf 22:30
URL:https://www.bcgeldrop.nl/activiteit/vrij-spelen-415/
LOCATION:Sporthal De Kievit\, Linze 13\, Geldrop\, 5667AH\, Nederland
CATEGORIES:Vrij spelen
END:VEVENT
BEGIN:VEVENT
DTSTART;TZID=Europe/Amsterdam:20250522T190000
DTEND;TZID=Europe/Amsterdam:20250522T203000
DTSTAMP:20260425T183735
CREATED:20250102T144341Z
LAST-MODIFIED:20250102T144341Z
UID:19447-1747940400-1747945800@www.bcgeldrop.nl
SUMMARY:Seniorentraining
DESCRIPTION:
URL:https://www.bcgeldrop.nl/activiteit/seniorentraining-510/
LOCATION:Sporthal De Kievit\, Linze 13\, Geldrop\, 5667AH\, Nederland
CATEGORIES:Trainingen senioren
END:VEVENT
BEGIN:VEVENT
DTSTART;TZID=Europe/Amsterdam:20250522T164500
DTEND;TZID=Europe/Amsterdam:20250522T203000
DTSTAMP:20260425T183735
CREATED:20250102T144130Z
LAST-MODIFIED:20250102T144130Z
UID:19423-1747932300-1747945800@www.bcgeldrop.nl
SUMMARY:Jeugdtraining
DESCRIPTION:
URL:https://www.bcgeldrop.nl/activiteit/jeugdtraining-495/
LOCATION:Sporthal De Kievit\, Linze 13\, Geldrop\, 5667AH\, Nederland
CATEGORIES:Trainingen jeugd
END:VEVENT
BEGIN:VEVENT
DTSTART;TZID=Europe/Amsterdam:20250519T203000
DTEND;TZID=Europe/Amsterdam:20250519T230000
DTSTAMP:20260425T183735
CREATED:20241014T100819Z
LAST-MODIFIED:20250102T170533Z
UID:19211-1747686600-1747695600@www.bcgeldrop.nl
SUMMARY:Vrij spelen
DESCRIPTION:Halve hal vanaf 22:30
URL:https://www.bcgeldrop.nl/activiteit/vrij-spelen-373/
LOCATION:Sporthal De Kievit\, Linze 13\, Geldrop\, 5667AH\, Nederland
CATEGORIES:Vrij spelen
END:VEVENT
BEGIN:VEVENT
DTSTART;TZID=Europe/Amsterdam:20250519T190000
DTEND;TZID=Europe/Amsterdam:20250519T203000
DTSTAMP:20260425T183735
CREATED:20241014T093234Z
LAST-MODIFIED:20250102T165247Z
UID:19136-1747681200-1747686600@www.bcgeldrop.nl
SUMMARY:Seniorentraining
DESCRIPTION:
URL:https://www.bcgeldrop.nl/activiteit/seniorentraining-468/
LOCATION:Sporthal De Kievit\, Linze 13\, Geldrop\, 5667AH\, Nederland
CATEGORIES:Trainingen senioren
END:VEVENT
BEGIN:VEVENT
DTSTART;TZID=Europe/Amsterdam:20250519T174500
DTEND;TZID=Europe/Amsterdam:20250519T190000
DTSTAMP:20260425T183735
CREATED:20241014T094352Z
LAST-MODIFIED:20250102T150533Z
UID:19173-1747676700-1747681200@www.bcgeldrop.nl
SUMMARY:Jeugdtraining
DESCRIPTION:
URL:https://www.bcgeldrop.nl/activiteit/jeugdtraining-464/
LOCATION:Sporthal De Kievit\, Linze 13\, Geldrop\, 5667AH\, Nederland
CATEGORIES:Trainingen jeugd
END:VEVENT
BEGIN:VEVENT
DTSTART;TZID=Europe/Amsterdam:20250517T084500
DTEND;TZID=Europe/Amsterdam:20250517T101500
DTSTAMP:20260425T183735
CREATED:20250102T150613Z
LAST-MODIFIED:20250102T150613Z
UID:19519-1747471500-1747476900@www.bcgeldrop.nl
SUMMARY:Seniorentraining
DESCRIPTION:
URL:https://www.bcgeldrop.nl/activiteit/seniorentraining-524/
LOCATION:Sporthal De Kievit\, Linze 13\, Geldrop\, 5667AH\, Nederland
CATEGORIES:Trainingen senioren
END:VEVENT
BEGIN:VEVENT
DTSTART;TZID=Europe/Amsterdam:20250515T203000
DTEND;TZID=Europe/Amsterdam:20250515T230000
DTSTAMP:20260425T183735
CREATED:20250102T144905Z
LAST-MODIFIED:20250102T144905Z
UID:19471-1747341000-1747350000@www.bcgeldrop.nl
SUMMARY:Vrij spelen
DESCRIPTION:Halve hal vanaf 22:30
URL:https://www.bcgeldrop.nl/activiteit/vrij-spelen-414/
LOCATION:Sporthal De Kievit\, Linze 13\, Geldrop\, 5667AH\, Nederland
CATEGORIES:Vrij spelen
END:VEVENT
BEGIN:VEVENT
DTSTART;TZID=Europe/Amsterdam:20250515T190000
DTEND;TZID=Europe/Amsterdam:20250515T203000
DTSTAMP:20260425T183735
CREATED:20250102T144223Z
LAST-MODIFIED:20250102T144223Z
UID:19446-1747335600-1747341000@www.bcgeldrop.nl
SUMMARY:Seniorentraining
DESCRIPTION:
URL:https://www.bcgeldrop.nl/activiteit/seniorentraining-509/
LOCATION:Sporthal De Kievit\, Linze 13\, Geldrop\, 5667AH\, Nederland
CATEGORIES:Trainingen senioren
END:VEVENT
BEGIN:VEVENT
DTSTART;TZID=Europe/Amsterdam:20250515T164500
DTEND;TZID=Europe/Amsterdam:20250515T203000
DTSTAMP:20260425T183735
CREATED:20250102T144130Z
LAST-MODIFIED:20250102T144130Z
UID:19422-1747327500-1747341000@www.bcgeldrop.nl
SUMMARY:Jeugdtraining
DESCRIPTION:
URL:https://www.bcgeldrop.nl/activiteit/jeugdtraining-494/
LOCATION:Sporthal De Kievit\, Linze 13\, Geldrop\, 5667AH\, Nederland
CATEGORIES:Trainingen jeugd
END:VEVENT
BEGIN:VEVENT
DTSTART;TZID=Europe/Amsterdam:20250512T203000
DTEND;TZID=Europe/Amsterdam:20250512T230000
DTSTAMP:20260425T183735
CREATED:20241014T100819Z
LAST-MODIFIED:20250102T170533Z
UID:19210-1747081800-1747090800@www.bcgeldrop.nl
SUMMARY:Vrij spelen
DESCRIPTION:Halve hal vanaf 22:30
URL:https://www.bcgeldrop.nl/activiteit/vrij-spelen-372/
LOCATION:Sporthal De Kievit\, Linze 13\, Geldrop\, 5667AH\, Nederland
CATEGORIES:Vrij spelen
END:VEVENT
BEGIN:VEVENT
DTSTART;TZID=Europe/Amsterdam:20250512T190000
DTEND;TZID=Europe/Amsterdam:20250512T203000
DTSTAMP:20260425T183735
CREATED:20241014T093233Z
LAST-MODIFIED:20250102T165247Z
UID:19135-1747076400-1747081800@www.bcgeldrop.nl
SUMMARY:Seniorentraining
DESCRIPTION:
URL:https://www.bcgeldrop.nl/activiteit/seniorentraining-467/
LOCATION:Sporthal De Kievit\, Linze 13\, Geldrop\, 5667AH\, Nederland
CATEGORIES:Trainingen senioren
END:VEVENT
BEGIN:VEVENT
DTSTART;TZID=Europe/Amsterdam:20250512T174500
DTEND;TZID=Europe/Amsterdam:20250512T190000
DTSTAMP:20260425T183735
CREATED:20241014T094352Z
LAST-MODIFIED:20250102T150533Z
UID:19172-1747071900-1747076400@www.bcgeldrop.nl
SUMMARY:Jeugdtraining
DESCRIPTION:
URL:https://www.bcgeldrop.nl/activiteit/jeugdtraining-463/
LOCATION:Sporthal De Kievit\, Linze 13\, Geldrop\, 5667AH\, Nederland
CATEGORIES:Trainingen jeugd
END:VEVENT
END:VCALENDAR