BEGIN:VCALENDAR
VERSION:2.0
PRODID:-//Badmintonclub Geldrop - ECPv6.15.20//NONSGML v1.0//EN
CALSCALE:GREGORIAN
METHOD:PUBLISH
X-WR-CALNAME:Badmintonclub Geldrop
X-ORIGINAL-URL:https://www.bcgeldrop.nl
X-WR-CALDESC:Evenementen voor Badmintonclub Geldrop
REFRESH-INTERVAL;VALUE=DURATION:PT1H
X-Robots-Tag:noindex
X-PUBLISHED-TTL:PT1H
BEGIN:VTIMEZONE
TZID:Europe/Amsterdam
BEGIN:DAYLIGHT
TZOFFSETFROM:+0100
TZOFFSETTO:+0200
TZNAME:CEST
DTSTART:20230326T010000
END:DAYLIGHT
BEGIN:STANDARD
TZOFFSETFROM:+0200
TZOFFSETTO:+0100
TZNAME:CET
DTSTART:20231029T010000
END:STANDARD
BEGIN:DAYLIGHT
TZOFFSETFROM:+0100
TZOFFSETTO:+0200
TZNAME:CEST
DTSTART:20240331T010000
END:DAYLIGHT
BEGIN:STANDARD
TZOFFSETFROM:+0200
TZOFFSETTO:+0100
TZNAME:CET
DTSTART:20241027T010000
END:STANDARD
BEGIN:DAYLIGHT
TZOFFSETFROM:+0100
TZOFFSETTO:+0200
TZNAME:CEST
DTSTART:20250330T010000
END:DAYLIGHT
BEGIN:STANDARD
TZOFFSETFROM:+0200
TZOFFSETTO:+0100
TZNAME:CET
DTSTART:20251026T010000
END:STANDARD
END:VTIMEZONE
BEGIN:VEVENT
DTSTART;TZID=Europe/Amsterdam:20240624T203000
DTEND;TZID=Europe/Amsterdam:20240624T230000
DTSTAMP:20260426T062630
CREATED:20230724T124450Z
LAST-MODIFIED:20230724T124450Z
UID:18562-1719261000-1719270000@www.bcgeldrop.nl
SUMMARY:Vrij spelen
DESCRIPTION:Halve hal de hele avond\, gasten kunnen gratis spelen
URL:https://www.bcgeldrop.nl/activiteit/vrij-spelen-293/
LOCATION:Sporthal De Kievit\, Linze 13\, Geldrop\, 5667AH\, Nederland
CATEGORIES:Vrij spelen
END:VEVENT
BEGIN:VEVENT
DTSTART;TZID=Europe/Amsterdam:20240620T203000
DTEND;TZID=Europe/Amsterdam:20240620T230000
DTSTAMP:20260426T062630
CREATED:20230724T132131Z
LAST-MODIFIED:20230724T132131Z
UID:18700-1718915400-1718924400@www.bcgeldrop.nl
SUMMARY:Vrij spelen
DESCRIPTION:Halve hal de hele avond\, gasten kunnen gratis spelen
URL:https://www.bcgeldrop.nl/activiteit/vrij-spelen-334/
LOCATION:Sporthal De Kievit\, Linze 13\, Geldrop\, 5667AH\, Nederland
CATEGORIES:Vrij spelen
END:VEVENT
BEGIN:VEVENT
DTSTART;TZID=Europe/Amsterdam:20240617T203000
DTEND;TZID=Europe/Amsterdam:20240617T230000
DTSTAMP:20260426T062630
CREATED:20230724T124436Z
LAST-MODIFIED:20230724T124436Z
UID:18561-1718656200-1718665200@www.bcgeldrop.nl
SUMMARY:Vrij spelen
DESCRIPTION:Halve hal de hele avond\, gasten kunnen gratis spelen
URL:https://www.bcgeldrop.nl/activiteit/vrij-spelen-292/
LOCATION:Sporthal De Kievit\, Linze 13\, Geldrop\, 5667AH\, Nederland
CATEGORIES:Vrij spelen
END:VEVENT
BEGIN:VEVENT
DTSTART;TZID=Europe/Amsterdam:20240613T203000
DTEND;TZID=Europe/Amsterdam:20240613T230000
DTSTAMP:20260426T062630
CREATED:20230724T132130Z
LAST-MODIFIED:20230724T132130Z
UID:18699-1718310600-1718319600@www.bcgeldrop.nl
SUMMARY:Vrij spelen
DESCRIPTION:Halve hal de hele avond\, gasten kunnen gratis spelen
URL:https://www.bcgeldrop.nl/activiteit/vrij-spelen-333/
LOCATION:Sporthal De Kievit\, Linze 13\, Geldrop\, 5667AH\, Nederland
CATEGORIES:Vrij spelen
END:VEVENT
BEGIN:VEVENT
DTSTART;TZID=Europe/Amsterdam:20240610T203000
DTEND;TZID=Europe/Amsterdam:20240610T230000
DTSTAMP:20260426T062630
CREATED:20230724T124436Z
LAST-MODIFIED:20230724T124436Z
UID:18560-1718051400-1718060400@www.bcgeldrop.nl
SUMMARY:Vrij spelen
DESCRIPTION:Halve hal de hele avond\, gasten kunnen gratis spelen
URL:https://www.bcgeldrop.nl/activiteit/vrij-spelen-291/
LOCATION:Sporthal De Kievit\, Linze 13\, Geldrop\, 5667AH\, Nederland
CATEGORIES:Vrij spelen
END:VEVENT
BEGIN:VEVENT
DTSTART;TZID=Europe/Amsterdam:20240606T203000
DTEND;TZID=Europe/Amsterdam:20240606T230000
DTSTAMP:20260426T062630
CREATED:20230724T132130Z
LAST-MODIFIED:20230724T132130Z
UID:18698-1717705800-1717714800@www.bcgeldrop.nl
SUMMARY:Vrij spelen
DESCRIPTION:Halve hal de hele avond\, gasten kunnen gratis spelen
URL:https://www.bcgeldrop.nl/activiteit/vrij-spelen-332/
LOCATION:Sporthal De Kievit\, Linze 13\, Geldrop\, 5667AH\, Nederland
CATEGORIES:Vrij spelen
END:VEVENT
BEGIN:VEVENT
DTSTART;TZID=Europe/Amsterdam:20240603T203000
DTEND;TZID=Europe/Amsterdam:20240603T230000
DTSTAMP:20260426T062630
CREATED:20230724T124435Z
LAST-MODIFIED:20230724T124435Z
UID:18559-1717446600-1717455600@www.bcgeldrop.nl
SUMMARY:Vrij spelen
DESCRIPTION:Halve hal de hele avond\, gasten kunnen gratis spelen
URL:https://www.bcgeldrop.nl/activiteit/vrij-spelen-290/
LOCATION:Sporthal De Kievit\, Linze 13\, Geldrop\, 5667AH\, Nederland
CATEGORIES:Vrij spelen
END:VEVENT
BEGIN:VEVENT
DTSTART;TZID=Europe/Amsterdam:20240530T203000
DTEND;TZID=Europe/Amsterdam:20240530T230000
DTSTAMP:20260426T062630
CREATED:20230724T131931Z
LAST-MODIFIED:20230724T131931Z
UID:18697-1717101000-1717110000@www.bcgeldrop.nl
SUMMARY:Vrij spelen
DESCRIPTION:
URL:https://www.bcgeldrop.nl/activiteit/vrij-spelen-331/
LOCATION:Sporthal De Kievit\, Linze 13\, Geldrop\, 5667AH\, Nederland
CATEGORIES:Vrij spelen
END:VEVENT
BEGIN:VEVENT
DTSTART;TZID=Europe/Amsterdam:20240527T203000
DTEND;TZID=Europe/Amsterdam:20240527T230000
DTSTAMP:20260426T062630
CREATED:20230724T124435Z
LAST-MODIFIED:20230724T124435Z
UID:18558-1716841800-1716850800@www.bcgeldrop.nl
SUMMARY:Vrij spelen
DESCRIPTION:Halve hal vanaf 22:30
URL:https://www.bcgeldrop.nl/activiteit/vrij-spelen-289/
LOCATION:Sporthal De Kievit\, Linze 13\, Geldrop\, 5667AH\, Nederland
CATEGORIES:Vrij spelen
END:VEVENT
BEGIN:VEVENT
DTSTART;TZID=Europe/Amsterdam:20240523T203000
DTEND;TZID=Europe/Amsterdam:20240523T230000
DTSTAMP:20260426T062630
CREATED:20230724T131931Z
LAST-MODIFIED:20230724T131931Z
UID:18696-1716496200-1716505200@www.bcgeldrop.nl
SUMMARY:Vrij spelen
DESCRIPTION:Halve hal vanaf 22:30
URL:https://www.bcgeldrop.nl/activiteit/vrij-spelen-330/
LOCATION:Sporthal De Kievit\, Linze 13\, Geldrop\, 5667AH\, Nederland
CATEGORIES:Vrij spelen
END:VEVENT
BEGIN:VEVENT
DTSTART;TZID=Europe/Amsterdam:20240520T000000
DTEND;TZID=Europe/Amsterdam:20240520T000000
DTSTAMP:20260426T062630
CREATED:20230724T124435Z
LAST-MODIFIED:20230724T124435Z
UID:18557-1716163200-1716163200@www.bcgeldrop.nl
SUMMARY:Vrij spelen
DESCRIPTION:Halve hal vanaf 22:30
URL:https://www.bcgeldrop.nl/activiteit/vrij-spelen-288/
LOCATION:Sporthal De Kievit\, Linze 13\, Geldrop\, 5667AH\, Nederland
CATEGORIES:Vrij spelen
END:VEVENT
BEGIN:VEVENT
DTSTART;TZID=Europe/Amsterdam:20240516T203000
DTEND;TZID=Europe/Amsterdam:20240516T230000
DTSTAMP:20260426T062630
CREATED:20230724T131930Z
LAST-MODIFIED:20230724T131930Z
UID:18695-1715891400-1715900400@www.bcgeldrop.nl
SUMMARY:Vrij spelen
DESCRIPTION:Halve hal vanaf 22:30
URL:https://www.bcgeldrop.nl/activiteit/vrij-spelen-329/
LOCATION:Sporthal De Kievit\, Linze 13\, Geldrop\, 5667AH\, Nederland
CATEGORIES:Vrij spelen
END:VEVENT
BEGIN:VEVENT
DTSTART;TZID=Europe/Amsterdam:20240513T203000
DTEND;TZID=Europe/Amsterdam:20240513T230000
DTSTAMP:20260426T062630
CREATED:20230724T124421Z
LAST-MODIFIED:20230724T124421Z
UID:18556-1715632200-1715641200@www.bcgeldrop.nl
SUMMARY:Vrij spelen
DESCRIPTION:Halve hal vanaf 22:30
URL:https://www.bcgeldrop.nl/activiteit/vrij-spelen-287/
LOCATION:Sporthal De Kievit\, Linze 13\, Geldrop\, 5667AH\, Nederland
CATEGORIES:Vrij spelen
END:VEVENT
BEGIN:VEVENT
DTSTART;TZID=Europe/Amsterdam:20240512T203000
DTEND;TZID=Europe/Amsterdam:20240512T230000
DTSTAMP:20260426T062630
CREATED:20250102T122956Z
LAST-MODIFIED:20250102T122956Z
UID:19280-1715545800-1715554800@www.bcgeldrop.nl
SUMMARY:Vrij spelen
DESCRIPTION:Halve hal vanaf 22:30
URL:https://www.bcgeldrop.nl/activiteit/vrij-spelen-384/
LOCATION:Sporthal De Kievit\, Linze 13\, Geldrop\, 5667AH\, Nederland
CATEGORIES:Vrij spelen
END:VEVENT
BEGIN:VEVENT
DTSTART;TZID=Europe/Amsterdam:20240509T203000
DTEND;TZID=Europe/Amsterdam:20240509T230000
DTSTAMP:20260426T062630
CREATED:20250102T122556Z
LAST-MODIFIED:20250102T122556Z
UID:19275-1715286600-1715295600@www.bcgeldrop.nl
SUMMARY:Vrij spelen
DESCRIPTION:Halve hal vanaf 22:30
URL:https://www.bcgeldrop.nl/activiteit/vrij-spelen-380/
LOCATION:Sporthal De Kievit\, Linze 13\, Geldrop\, 5667AH\, Nederland
CATEGORIES:Vrij spelen
END:VEVENT
BEGIN:VEVENT
DTSTART;TZID=Europe/Amsterdam:20240506T203000
DTEND;TZID=Europe/Amsterdam:20240506T230000
DTSTAMP:20260426T062630
CREATED:20230724T124421Z
LAST-MODIFIED:20230724T124421Z
UID:18555-1715027400-1715036400@www.bcgeldrop.nl
SUMMARY:Vrij spelen
DESCRIPTION:Halve hal vanaf 22:30
URL:https://www.bcgeldrop.nl/activiteit/vrij-spelen-286/
LOCATION:Sporthal De Kievit\, Linze 13\, Geldrop\, 5667AH\, Nederland
CATEGORIES:Vrij spelen
END:VEVENT
BEGIN:VEVENT
DTSTART;TZID=Europe/Amsterdam:20240502T203000
DTEND;TZID=Europe/Amsterdam:20240502T230000
DTSTAMP:20260426T062630
CREATED:20230724T131930Z
LAST-MODIFIED:20230724T131930Z
UID:18694-1714681800-1714690800@www.bcgeldrop.nl
SUMMARY:Vrij spelen
DESCRIPTION:Halve hal vanaf 22:30
URL:https://www.bcgeldrop.nl/activiteit/vrij-spelen-328/
LOCATION:Sporthal De Kievit\, Linze 13\, Geldrop\, 5667AH\, Nederland
CATEGORIES:Vrij spelen
END:VEVENT
BEGIN:VEVENT
DTSTART;TZID=Europe/Amsterdam:20240429T203000
DTEND;TZID=Europe/Amsterdam:20240429T230000
DTSTAMP:20260426T062630
CREATED:20230724T124420Z
LAST-MODIFIED:20230724T124420Z
UID:18554-1714422600-1714431600@www.bcgeldrop.nl
SUMMARY:Vrij spelen
DESCRIPTION:Halve hal vanaf 22:30
URL:https://www.bcgeldrop.nl/activiteit/vrij-spelen-285/
LOCATION:Sporthal De Kievit\, Linze 13\, Geldrop\, 5667AH\, Nederland
CATEGORIES:Vrij spelen
END:VEVENT
BEGIN:VEVENT
DTSTART;TZID=Europe/Amsterdam:20240425T203000
DTEND;TZID=Europe/Amsterdam:20240425T230000
DTSTAMP:20260426T062630
CREATED:20230724T131929Z
LAST-MODIFIED:20230724T131929Z
UID:18693-1714077000-1714086000@www.bcgeldrop.nl
SUMMARY:Vrij spelen
DESCRIPTION:Halve hal vanaf 22:30
URL:https://www.bcgeldrop.nl/activiteit/vrij-spelen-327/
LOCATION:Sporthal De Kievit\, Linze 13\, Geldrop\, 5667AH\, Nederland
CATEGORIES:Vrij spelen
END:VEVENT
BEGIN:VEVENT
DTSTART;TZID=Europe/Amsterdam:20240422T203000
DTEND;TZID=Europe/Amsterdam:20240422T230000
DTSTAMP:20260426T062630
CREATED:20230724T124420Z
LAST-MODIFIED:20230724T124420Z
UID:18553-1713817800-1713826800@www.bcgeldrop.nl
SUMMARY:Vrij spelen
DESCRIPTION:Halve hal vanaf 22:30
URL:https://www.bcgeldrop.nl/activiteit/vrij-spelen-284/
LOCATION:Sporthal De Kievit\, Linze 13\, Geldrop\, 5667AH\, Nederland
CATEGORIES:Vrij spelen
END:VEVENT
BEGIN:VEVENT
DTSTART;TZID=Europe/Amsterdam:20240418T203000
DTEND;TZID=Europe/Amsterdam:20240418T230000
DTSTAMP:20260426T062630
CREATED:20230724T131916Z
LAST-MODIFIED:20230724T131916Z
UID:18692-1713472200-1713481200@www.bcgeldrop.nl
SUMMARY:Vrij spelen
DESCRIPTION:Halve hal vanaf 22:30
URL:https://www.bcgeldrop.nl/activiteit/vrij-spelen-326/
LOCATION:Sporthal De Kievit\, Linze 13\, Geldrop\, 5667AH\, Nederland
CATEGORIES:Vrij spelen
END:VEVENT
BEGIN:VEVENT
DTSTART;TZID=Europe/Amsterdam:20240415T203000
DTEND;TZID=Europe/Amsterdam:20240415T230000
DTSTAMP:20260426T062630
CREATED:20230724T124420Z
LAST-MODIFIED:20230724T124420Z
UID:18552-1713213000-1713222000@www.bcgeldrop.nl
SUMMARY:Vrij spelen
DESCRIPTION:Halve hal vanaf 22:30
URL:https://www.bcgeldrop.nl/activiteit/vrij-spelen-283/
LOCATION:Sporthal De Kievit\, Linze 13\, Geldrop\, 5667AH\, Nederland
CATEGORIES:Vrij spelen
END:VEVENT
BEGIN:VEVENT
DTSTART;TZID=Europe/Amsterdam:20240411T203000
DTEND;TZID=Europe/Amsterdam:20240411T230000
DTSTAMP:20260426T062630
CREATED:20230724T131916Z
LAST-MODIFIED:20230724T131916Z
UID:18691-1712867400-1712876400@www.bcgeldrop.nl
SUMMARY:Vrij spelen
DESCRIPTION:Halve hal vanaf 22:30
URL:https://www.bcgeldrop.nl/activiteit/vrij-spelen-325/
LOCATION:Sporthal De Kievit\, Linze 13\, Geldrop\, 5667AH\, Nederland
CATEGORIES:Vrij spelen
END:VEVENT
BEGIN:VEVENT
DTSTART;TZID=Europe/Amsterdam:20240408T203000
DTEND;TZID=Europe/Amsterdam:20240408T230000
DTSTAMP:20260426T062630
CREATED:20230724T124406Z
LAST-MODIFIED:20230724T124406Z
UID:18551-1712608200-1712617200@www.bcgeldrop.nl
SUMMARY:Vrij spelen
DESCRIPTION:Halve hal vanaf 22:30
URL:https://www.bcgeldrop.nl/activiteit/vrij-spelen-282/
LOCATION:Sporthal De Kievit\, Linze 13\, Geldrop\, 5667AH\, Nederland
CATEGORIES:Vrij spelen
END:VEVENT
BEGIN:VEVENT
DTSTART;TZID=Europe/Amsterdam:20240404T203000
DTEND;TZID=Europe/Amsterdam:20240404T230000
DTSTAMP:20260426T062630
CREATED:20230724T131915Z
LAST-MODIFIED:20230724T131915Z
UID:18690-1712262600-1712271600@www.bcgeldrop.nl
SUMMARY:Vrij spelen
DESCRIPTION:Halve hal vanaf 22:30
URL:https://www.bcgeldrop.nl/activiteit/vrij-spelen-324/
LOCATION:Sporthal De Kievit\, Linze 13\, Geldrop\, 5667AH\, Nederland
CATEGORIES:Vrij spelen
END:VEVENT
BEGIN:VEVENT
DTSTART;TZID=Europe/Amsterdam:20240401T000000
DTEND;TZID=Europe/Amsterdam:20240401T000000
DTSTAMP:20260426T062630
CREATED:20230724T124406Z
LAST-MODIFIED:20230724T124406Z
UID:18550-1711929600-1711929600@www.bcgeldrop.nl
SUMMARY:Vrij spelen
DESCRIPTION:Halve hal vanaf 22:30
URL:https://www.bcgeldrop.nl/activiteit/vrij-spelen-281/
LOCATION:Sporthal De Kievit\, Linze 13\, Geldrop\, 5667AH\, Nederland
CATEGORIES:Vrij spelen
END:VEVENT
BEGIN:VEVENT
DTSTART;TZID=Europe/Amsterdam:20240328T203000
DTEND;TZID=Europe/Amsterdam:20240328T230000
DTSTAMP:20260426T062630
CREATED:20230724T131915Z
LAST-MODIFIED:20230724T131915Z
UID:18689-1711657800-1711666800@www.bcgeldrop.nl
SUMMARY:Vrij spelen
DESCRIPTION:Halve hal vanaf 22:30
URL:https://www.bcgeldrop.nl/activiteit/vrij-spelen-323/
LOCATION:Sporthal De Kievit\, Linze 13\, Geldrop\, 5667AH\, Nederland
CATEGORIES:Vrij spelen
END:VEVENT
BEGIN:VEVENT
DTSTART;TZID=Europe/Amsterdam:20240325T203000
DTEND;TZID=Europe/Amsterdam:20240325T230000
DTSTAMP:20260426T062630
CREATED:20230724T124405Z
LAST-MODIFIED:20230724T124405Z
UID:18549-1711398600-1711407600@www.bcgeldrop.nl
SUMMARY:Vrij spelen
DESCRIPTION:Halve hal vanaf 22:30
URL:https://www.bcgeldrop.nl/activiteit/vrij-spelen-280/
LOCATION:Sporthal De Kievit\, Linze 13\, Geldrop\, 5667AH\, Nederland
CATEGORIES:Vrij spelen
END:VEVENT
BEGIN:VEVENT
DTSTART;TZID=Europe/Amsterdam:20240321T203000
DTEND;TZID=Europe/Amsterdam:20240321T230000
DTSTAMP:20260426T062630
CREATED:20230724T131914Z
LAST-MODIFIED:20230724T131914Z
UID:18688-1711053000-1711062000@www.bcgeldrop.nl
SUMMARY:Vrij spelen
DESCRIPTION:
URL:https://www.bcgeldrop.nl/activiteit/vrij-spelen-322/
LOCATION:Sporthal De Kievit\, Linze 13\, Geldrop\, 5667AH\, Nederland
CATEGORIES:Vrij spelen
END:VEVENT
BEGIN:VEVENT
DTSTART;TZID=Europe/Amsterdam:20240318T203000
DTEND;TZID=Europe/Amsterdam:20240318T230000
DTSTAMP:20260426T062630
CREATED:20230724T124405Z
LAST-MODIFIED:20230724T124405Z
UID:18548-1710793800-1710802800@www.bcgeldrop.nl
SUMMARY:Vrij spelen
DESCRIPTION:Halve hal vanaf 22:30
URL:https://www.bcgeldrop.nl/activiteit/vrij-spelen-279/
LOCATION:Sporthal De Kievit\, Linze 13\, Geldrop\, 5667AH\, Nederland
CATEGORIES:Vrij spelen
END:VEVENT
END:VCALENDAR