BEGIN:VCALENDAR
VERSION:2.0
PRODID:-//Badmintonclub Geldrop - ECPv6.15.20//NONSGML v1.0//EN
CALSCALE:GREGORIAN
METHOD:PUBLISH
X-ORIGINAL-URL:https://www.bcgeldrop.nl
X-WR-CALDESC:Evenementen voor Badmintonclub Geldrop
REFRESH-INTERVAL;VALUE=DURATION:PT1H
X-Robots-Tag:noindex
X-PUBLISHED-TTL:PT1H
BEGIN:VTIMEZONE
TZID:Europe/Amsterdam
BEGIN:DAYLIGHT
TZOFFSETFROM:+0100
TZOFFSETTO:+0200
TZNAME:CEST
DTSTART:20230326T010000
END:DAYLIGHT
BEGIN:STANDARD
TZOFFSETFROM:+0200
TZOFFSETTO:+0100
TZNAME:CET
DTSTART:20231029T010000
END:STANDARD
BEGIN:DAYLIGHT
TZOFFSETFROM:+0100
TZOFFSETTO:+0200
TZNAME:CEST
DTSTART:20240331T010000
END:DAYLIGHT
BEGIN:STANDARD
TZOFFSETFROM:+0200
TZOFFSETTO:+0100
TZNAME:CET
DTSTART:20241027T010000
END:STANDARD
BEGIN:DAYLIGHT
TZOFFSETFROM:+0100
TZOFFSETTO:+0200
TZNAME:CEST
DTSTART:20250330T010000
END:DAYLIGHT
BEGIN:STANDARD
TZOFFSETFROM:+0200
TZOFFSETTO:+0100
TZNAME:CET
DTSTART:20251026T010000
END:STANDARD
END:VTIMEZONE
BEGIN:VEVENT
DTSTART;TZID=Europe/Amsterdam:20241209T203000
DTEND;TZID=Europe/Amsterdam:20241209T230000
DTSTAMP:20260426T032053
CREATED:20241014T100348Z
LAST-MODIFIED:20250102T170052Z
UID:19191-1733776200-1733785200@www.bcgeldrop.nl
SUMMARY:Vrij spelen
DESCRIPTION:Halve hal vanaf 22:30
URL:https://www.bcgeldrop.nl/activiteit/vrij-spelen-353/
LOCATION:Sporthal De Kievit\, Linze 13\, Geldrop\, 5667AH\, Nederland
CATEGORIES:Vrij spelen
END:VEVENT
BEGIN:VEVENT
DTSTART;TZID=Europe/Amsterdam:20241202T203000
DTEND;TZID=Europe/Amsterdam:20241202T230000
DTSTAMP:20260426T032053
CREATED:20241014T100347Z
LAST-MODIFIED:20250102T170052Z
UID:19190-1733171400-1733180400@www.bcgeldrop.nl
SUMMARY:Vrij spelen
DESCRIPTION:Halve hal vanaf 22:30
URL:https://www.bcgeldrop.nl/activiteit/vrij-spelen-352/
LOCATION:Sporthal De Kievit\, Linze 13\, Geldrop\, 5667AH\, Nederland
CATEGORIES:Vrij spelen
END:VEVENT
BEGIN:VEVENT
DTSTART;TZID=Europe/Amsterdam:20241125T203000
DTEND;TZID=Europe/Amsterdam:20241125T230000
DTSTAMP:20260426T032053
CREATED:20241014T094955Z
LAST-MODIFIED:20250102T170052Z
UID:19189-1732566600-1732575600@www.bcgeldrop.nl
SUMMARY:Vrij spelen
DESCRIPTION:Halve hal vanaf 22:30
URL:https://www.bcgeldrop.nl/activiteit/vrij-spelen-351/
LOCATION:Sporthal De Kievit\, Linze 13\, Geldrop\, 5667AH\, Nederland
CATEGORIES:Vrij spelen
END:VEVENT
BEGIN:VEVENT
DTSTART;TZID=Europe/Amsterdam:20241118T203000
DTEND;TZID=Europe/Amsterdam:20241118T230000
DTSTAMP:20260426T032053
CREATED:20241014T094955Z
LAST-MODIFIED:20250102T170052Z
UID:19188-1731961800-1731970800@www.bcgeldrop.nl
SUMMARY:Vrij spelen
DESCRIPTION:Halve hal vanaf 22:30
URL:https://www.bcgeldrop.nl/activiteit/vrij-spelen-350/
LOCATION:Sporthal De Kievit\, Linze 13\, Geldrop\, 5667AH\, Nederland
CATEGORIES:Vrij spelen
END:VEVENT
BEGIN:VEVENT
DTSTART;TZID=Europe/Amsterdam:20241111T203000
DTEND;TZID=Europe/Amsterdam:20241111T230000
DTSTAMP:20260426T032053
CREATED:20241014T094955Z
LAST-MODIFIED:20250102T170052Z
UID:19187-1731357000-1731366000@www.bcgeldrop.nl
SUMMARY:Vrij spelen
DESCRIPTION:Halve hal vanaf 22:30
URL:https://www.bcgeldrop.nl/activiteit/vrij-spelen-349/
LOCATION:Sporthal De Kievit\, Linze 13\, Geldrop\, 5667AH\, Nederland
CATEGORIES:Vrij spelen
END:VEVENT
BEGIN:VEVENT
DTSTART;TZID=Europe/Amsterdam:20241104T203000
DTEND;TZID=Europe/Amsterdam:20241104T230000
DTSTAMP:20260426T032053
CREATED:20241014T094955Z
LAST-MODIFIED:20250102T165851Z
UID:19186-1730752200-1730761200@www.bcgeldrop.nl
SUMMARY:Vrij spelen
DESCRIPTION:Halve hal vanaf 22:30
URL:https://www.bcgeldrop.nl/activiteit/vrij-spelen-348/
LOCATION:Sporthal De Kievit\, Linze 13\, Geldrop\, 5667AH\, Nederland
CATEGORIES:Vrij spelen
END:VEVENT
BEGIN:VEVENT
DTSTART;TZID=Europe/Amsterdam:20241028T203000
DTEND;TZID=Europe/Amsterdam:20241028T230000
DTSTAMP:20260426T032053
CREATED:20241014T094955Z
LAST-MODIFIED:20250102T165851Z
UID:19185-1730147400-1730156400@www.bcgeldrop.nl
SUMMARY:Vrij spelen
DESCRIPTION:Halve hal vanaf 22:30
URL:https://www.bcgeldrop.nl/activiteit/vrij-spelen-347/
LOCATION:Sporthal De Kievit\, Linze 13\, Geldrop\, 5667AH\, Nederland
CATEGORIES:Vrij spelen
END:VEVENT
BEGIN:VEVENT
DTSTART;TZID=Europe/Amsterdam:20241021T203000
DTEND;TZID=Europe/Amsterdam:20241021T230000
DTSTAMP:20260426T032053
CREATED:20241014T094754Z
LAST-MODIFIED:20250102T165851Z
UID:19184-1729542600-1729551600@www.bcgeldrop.nl
SUMMARY:Vrij spelen
DESCRIPTION:Halve hal vanaf 22:30
URL:https://www.bcgeldrop.nl/activiteit/vrij-spelen-346/
LOCATION:Sporthal De Kievit\, Linze 13\, Geldrop\, 5667AH\, Nederland
CATEGORIES:Vrij spelen
END:VEVENT
BEGIN:VEVENT
DTSTART;TZID=Europe/Amsterdam:20241014T203000
DTEND;TZID=Europe/Amsterdam:20241014T230000
DTSTAMP:20260426T032053
CREATED:20241014T094754Z
LAST-MODIFIED:20250102T165851Z
UID:19183-1728937800-1728946800@www.bcgeldrop.nl
SUMMARY:Vrij spelen
DESCRIPTION:Halve hal vanaf 22:30
URL:https://www.bcgeldrop.nl/activiteit/vrij-spelen-345/
LOCATION:Sporthal De Kievit\, Linze 13\, Geldrop\, 5667AH\, Nederland
CATEGORIES:Vrij spelen
END:VEVENT
BEGIN:VEVENT
DTSTART;TZID=Europe/Amsterdam:20241010T203000
DTEND;TZID=Europe/Amsterdam:20241010T230000
DTSTAMP:20260426T032053
CREATED:20250102T122756Z
LAST-MODIFIED:20250102T122756Z
UID:19278-1728592200-1728601200@www.bcgeldrop.nl
SUMMARY:Vrij spelen
DESCRIPTION:Halve hal vanaf 22:30
URL:https://www.bcgeldrop.nl/activiteit/vrij-spelen-382/
LOCATION:Sporthal De Kievit\, Linze 13\, Geldrop\, 5667AH\, Nederland
CATEGORIES:Vrij spelen
END:VEVENT
BEGIN:VEVENT
DTSTART;TZID=Europe/Amsterdam:20241007T203000
DTEND;TZID=Europe/Amsterdam:20241007T230000
DTSTAMP:20260426T032053
CREATED:20241014T094754Z
LAST-MODIFIED:20250102T165850Z
UID:19182-1728333000-1728342000@www.bcgeldrop.nl
SUMMARY:Vrij spelen
DESCRIPTION:Halve hal vanaf 22:30
URL:https://www.bcgeldrop.nl/activiteit/vrij-spelen-344/
LOCATION:Sporthal De Kievit\, Linze 13\, Geldrop\, 5667AH\, Nederland
CATEGORIES:Vrij spelen
END:VEVENT
BEGIN:VEVENT
DTSTART;TZID=Europe/Amsterdam:20240930T203000
DTEND;TZID=Europe/Amsterdam:20240930T230000
DTSTAMP:20260426T032053
CREATED:20241014T094754Z
LAST-MODIFIED:20250102T165650Z
UID:19181-1727728200-1727737200@www.bcgeldrop.nl
SUMMARY:Vrij spelen
DESCRIPTION:Halve hal vanaf 22:30
URL:https://www.bcgeldrop.nl/activiteit/vrij-spelen-343/
LOCATION:Sporthal De Kievit\, Linze 13\, Geldrop\, 5667AH\, Nederland
CATEGORIES:Vrij spelen
END:VEVENT
BEGIN:VEVENT
DTSTART;TZID=Europe/Amsterdam:20240923T203000
DTEND;TZID=Europe/Amsterdam:20240923T230000
DTSTAMP:20260426T032053
CREATED:20241014T094753Z
LAST-MODIFIED:20250102T165650Z
UID:19180-1727123400-1727132400@www.bcgeldrop.nl
SUMMARY:Vrij spelen
DESCRIPTION:Halve hal vanaf 22:30
URL:https://www.bcgeldrop.nl/activiteit/vrij-spelen-342/
LOCATION:Sporthal De Kievit\, Linze 13\, Geldrop\, 5667AH\, Nederland
CATEGORIES:Vrij spelen
END:VEVENT
BEGIN:VEVENT
DTSTART;TZID=Europe/Amsterdam:20240916T203000
DTEND;TZID=Europe/Amsterdam:20240916T230000
DTSTAMP:20260426T032053
CREATED:20241014T094553Z
LAST-MODIFIED:20250102T165650Z
UID:19179-1726518600-1726527600@www.bcgeldrop.nl
SUMMARY:Vrij spelen
DESCRIPTION:Halve hal vanaf 22:30
URL:https://www.bcgeldrop.nl/activiteit/vrij-spelen-341/
LOCATION:Sporthal De Kievit\, Linze 13\, Geldrop\, 5667AH\, Nederland
CATEGORIES:Vrij spelen
END:VEVENT
BEGIN:VEVENT
DTSTART;TZID=Europe/Amsterdam:20240909T203000
DTEND;TZID=Europe/Amsterdam:20240909T230000
DTSTAMP:20260426T032053
CREATED:20241014T094553Z
LAST-MODIFIED:20250102T165650Z
UID:19178-1725913800-1725922800@www.bcgeldrop.nl
SUMMARY:Vrij spelen
DESCRIPTION:Halve hal vanaf 22:30
URL:https://www.bcgeldrop.nl/activiteit/vrij-spelen-340/
LOCATION:Sporthal De Kievit\, Linze 13\, Geldrop\, 5667AH\, Nederland
CATEGORIES:Vrij spelen
END:VEVENT
BEGIN:VEVENT
DTSTART;TZID=Europe/Amsterdam:20240902T203000
DTEND;TZID=Europe/Amsterdam:20240902T230000
DTSTAMP:20260426T032053
CREATED:20241014T094553Z
LAST-MODIFIED:20250102T165649Z
UID:19177-1725309000-1725318000@www.bcgeldrop.nl
SUMMARY:Vrij spelen
DESCRIPTION:Halve hal vanaf 22:30
URL:https://www.bcgeldrop.nl/activiteit/vrij-spelen-339/
LOCATION:Sporthal De Kievit\, Linze 13\, Geldrop\, 5667AH\, Nederland
CATEGORIES:Vrij spelen
END:VEVENT
BEGIN:VEVENT
DTSTART;TZID=Europe/Amsterdam:20240826T203000
DTEND;TZID=Europe/Amsterdam:20240826T230000
DTSTAMP:20260426T032053
CREATED:20241014T094553Z
LAST-MODIFIED:20250102T165449Z
UID:19176-1724704200-1724713200@www.bcgeldrop.nl
SUMMARY:Vrij spelen
DESCRIPTION:Halve hal vanaf 22:30
URL:https://www.bcgeldrop.nl/activiteit/vrij-spelen-338/
LOCATION:Sporthal De Kievit\, Linze 13\, Geldrop\, 5667AH\, Nederland
CATEGORIES:Vrij spelen
END:VEVENT
BEGIN:VEVENT
DTSTART;TZID=Europe/Amsterdam:20240819T203000
DTEND;TZID=Europe/Amsterdam:20240819T230000
DTSTAMP:20260426T032053
CREATED:20241014T094552Z
LAST-MODIFIED:20250102T165449Z
UID:19175-1724099400-1724108400@www.bcgeldrop.nl
SUMMARY:Vrij spelen
DESCRIPTION:Halve hal vanaf 22:30
URL:https://www.bcgeldrop.nl/activiteit/vrij-spelen-337/
LOCATION:Sporthal De Kievit\, Linze 13\, Geldrop\, 5667AH\, Nederland
CATEGORIES:Vrij spelen
END:VEVENT
BEGIN:VEVENT
DTSTART;TZID=Europe/Amsterdam:20240711T203000
DTEND;TZID=Europe/Amsterdam:20240711T230000
DTSTAMP:20260426T032053
CREATED:20250102T122956Z
LAST-MODIFIED:20250102T122956Z
UID:19279-1720729800-1720738800@www.bcgeldrop.nl
SUMMARY:Vrij spelen
DESCRIPTION:Halve hal vanaf 22:30
URL:https://www.bcgeldrop.nl/activiteit/vrij-spelen-383/
LOCATION:Sporthal De Kievit\, Linze 13\, Geldrop\, 5667AH\, Nederland
CATEGORIES:Vrij spelen
END:VEVENT
BEGIN:VEVENT
DTSTART;TZID=Europe/Amsterdam:20240627T203000
DTEND;TZID=Europe/Amsterdam:20240627T230000
DTSTAMP:20260426T032053
CREATED:20230724T132131Z
LAST-MODIFIED:20230724T132131Z
UID:18701-1719520200-1719529200@www.bcgeldrop.nl
SUMMARY:Vrij spelen
DESCRIPTION:Halve hal de hele avond\, gasten kunnen gratis spelen
URL:https://www.bcgeldrop.nl/activiteit/vrij-spelen-335/
LOCATION:Sporthal De Kievit\, Linze 13\, Geldrop\, 5667AH\, Nederland
CATEGORIES:Vrij spelen
END:VEVENT
BEGIN:VEVENT
DTSTART;TZID=Europe/Amsterdam:20240624T203000
DTEND;TZID=Europe/Amsterdam:20240624T230000
DTSTAMP:20260426T032053
CREATED:20230724T124450Z
LAST-MODIFIED:20230724T124450Z
UID:18562-1719261000-1719270000@www.bcgeldrop.nl
SUMMARY:Vrij spelen
DESCRIPTION:Halve hal de hele avond\, gasten kunnen gratis spelen
URL:https://www.bcgeldrop.nl/activiteit/vrij-spelen-293/
LOCATION:Sporthal De Kievit\, Linze 13\, Geldrop\, 5667AH\, Nederland
CATEGORIES:Vrij spelen
END:VEVENT
BEGIN:VEVENT
DTSTART;TZID=Europe/Amsterdam:20240620T203000
DTEND;TZID=Europe/Amsterdam:20240620T230000
DTSTAMP:20260426T032053
CREATED:20230724T132131Z
LAST-MODIFIED:20230724T132131Z
UID:18700-1718915400-1718924400@www.bcgeldrop.nl
SUMMARY:Vrij spelen
DESCRIPTION:Halve hal de hele avond\, gasten kunnen gratis spelen
URL:https://www.bcgeldrop.nl/activiteit/vrij-spelen-334/
LOCATION:Sporthal De Kievit\, Linze 13\, Geldrop\, 5667AH\, Nederland
CATEGORIES:Vrij spelen
END:VEVENT
BEGIN:VEVENT
DTSTART;TZID=Europe/Amsterdam:20240617T203000
DTEND;TZID=Europe/Amsterdam:20240617T230000
DTSTAMP:20260426T032053
CREATED:20230724T124436Z
LAST-MODIFIED:20230724T124436Z
UID:18561-1718656200-1718665200@www.bcgeldrop.nl
SUMMARY:Vrij spelen
DESCRIPTION:Halve hal de hele avond\, gasten kunnen gratis spelen
URL:https://www.bcgeldrop.nl/activiteit/vrij-spelen-292/
LOCATION:Sporthal De Kievit\, Linze 13\, Geldrop\, 5667AH\, Nederland
CATEGORIES:Vrij spelen
END:VEVENT
BEGIN:VEVENT
DTSTART;TZID=Europe/Amsterdam:20240613T203000
DTEND;TZID=Europe/Amsterdam:20240613T230000
DTSTAMP:20260426T032053
CREATED:20230724T132130Z
LAST-MODIFIED:20230724T132130Z
UID:18699-1718310600-1718319600@www.bcgeldrop.nl
SUMMARY:Vrij spelen
DESCRIPTION:Halve hal de hele avond\, gasten kunnen gratis spelen
URL:https://www.bcgeldrop.nl/activiteit/vrij-spelen-333/
LOCATION:Sporthal De Kievit\, Linze 13\, Geldrop\, 5667AH\, Nederland
CATEGORIES:Vrij spelen
END:VEVENT
BEGIN:VEVENT
DTSTART;TZID=Europe/Amsterdam:20240610T203000
DTEND;TZID=Europe/Amsterdam:20240610T230000
DTSTAMP:20260426T032053
CREATED:20230724T124436Z
LAST-MODIFIED:20230724T124436Z
UID:18560-1718051400-1718060400@www.bcgeldrop.nl
SUMMARY:Vrij spelen
DESCRIPTION:Halve hal de hele avond\, gasten kunnen gratis spelen
URL:https://www.bcgeldrop.nl/activiteit/vrij-spelen-291/
LOCATION:Sporthal De Kievit\, Linze 13\, Geldrop\, 5667AH\, Nederland
CATEGORIES:Vrij spelen
END:VEVENT
BEGIN:VEVENT
DTSTART;TZID=Europe/Amsterdam:20240606T203000
DTEND;TZID=Europe/Amsterdam:20240606T230000
DTSTAMP:20260426T032053
CREATED:20230724T132130Z
LAST-MODIFIED:20230724T132130Z
UID:18698-1717705800-1717714800@www.bcgeldrop.nl
SUMMARY:Vrij spelen
DESCRIPTION:Halve hal de hele avond\, gasten kunnen gratis spelen
URL:https://www.bcgeldrop.nl/activiteit/vrij-spelen-332/
LOCATION:Sporthal De Kievit\, Linze 13\, Geldrop\, 5667AH\, Nederland
CATEGORIES:Vrij spelen
END:VEVENT
BEGIN:VEVENT
DTSTART;TZID=Europe/Amsterdam:20240603T203000
DTEND;TZID=Europe/Amsterdam:20240603T230000
DTSTAMP:20260426T032053
CREATED:20230724T124435Z
LAST-MODIFIED:20230724T124435Z
UID:18559-1717446600-1717455600@www.bcgeldrop.nl
SUMMARY:Vrij spelen
DESCRIPTION:Halve hal de hele avond\, gasten kunnen gratis spelen
URL:https://www.bcgeldrop.nl/activiteit/vrij-spelen-290/
LOCATION:Sporthal De Kievit\, Linze 13\, Geldrop\, 5667AH\, Nederland
CATEGORIES:Vrij spelen
END:VEVENT
BEGIN:VEVENT
DTSTART;TZID=Europe/Amsterdam:20240530T203000
DTEND;TZID=Europe/Amsterdam:20240530T230000
DTSTAMP:20260426T032053
CREATED:20230724T131931Z
LAST-MODIFIED:20230724T131931Z
UID:18697-1717101000-1717110000@www.bcgeldrop.nl
SUMMARY:Vrij spelen
DESCRIPTION:
URL:https://www.bcgeldrop.nl/activiteit/vrij-spelen-331/
LOCATION:Sporthal De Kievit\, Linze 13\, Geldrop\, 5667AH\, Nederland
CATEGORIES:Vrij spelen
END:VEVENT
BEGIN:VEVENT
DTSTART;TZID=Europe/Amsterdam:20240527T203000
DTEND;TZID=Europe/Amsterdam:20240527T230000
DTSTAMP:20260426T032053
CREATED:20230724T124435Z
LAST-MODIFIED:20230724T124435Z
UID:18558-1716841800-1716850800@www.bcgeldrop.nl
SUMMARY:Vrij spelen
DESCRIPTION:Halve hal vanaf 22:30
URL:https://www.bcgeldrop.nl/activiteit/vrij-spelen-289/
LOCATION:Sporthal De Kievit\, Linze 13\, Geldrop\, 5667AH\, Nederland
CATEGORIES:Vrij spelen
END:VEVENT
BEGIN:VEVENT
DTSTART;TZID=Europe/Amsterdam:20240523T203000
DTEND;TZID=Europe/Amsterdam:20240523T230000
DTSTAMP:20260426T032053
CREATED:20230724T131931Z
LAST-MODIFIED:20230724T131931Z
UID:18696-1716496200-1716505200@www.bcgeldrop.nl
SUMMARY:Vrij spelen
DESCRIPTION:Halve hal vanaf 22:30
URL:https://www.bcgeldrop.nl/activiteit/vrij-spelen-330/
LOCATION:Sporthal De Kievit\, Linze 13\, Geldrop\, 5667AH\, Nederland
CATEGORIES:Vrij spelen
END:VEVENT
END:VCALENDAR