BEGIN:VCALENDAR
VERSION:2.0
PRODID:-//Badmintonclub Geldrop - ECPv6.15.20//NONSGML v1.0//EN
CALSCALE:GREGORIAN
METHOD:PUBLISH
X-ORIGINAL-URL:https://www.bcgeldrop.nl
X-WR-CALDESC:Evenementen voor Badmintonclub Geldrop
REFRESH-INTERVAL;VALUE=DURATION:PT1H
X-Robots-Tag:noindex
X-PUBLISHED-TTL:PT1H
BEGIN:VTIMEZONE
TZID:Europe/Amsterdam
BEGIN:DAYLIGHT
TZOFFSETFROM:+0100
TZOFFSETTO:+0200
TZNAME:CEST
DTSTART:20230326T010000
END:DAYLIGHT
BEGIN:STANDARD
TZOFFSETFROM:+0200
TZOFFSETTO:+0100
TZNAME:CET
DTSTART:20231029T010000
END:STANDARD
BEGIN:DAYLIGHT
TZOFFSETFROM:+0100
TZOFFSETTO:+0200
TZNAME:CEST
DTSTART:20240331T010000
END:DAYLIGHT
BEGIN:STANDARD
TZOFFSETFROM:+0200
TZOFFSETTO:+0100
TZNAME:CET
DTSTART:20241027T010000
END:STANDARD
BEGIN:DAYLIGHT
TZOFFSETFROM:+0100
TZOFFSETTO:+0200
TZNAME:CEST
DTSTART:20250330T010000
END:DAYLIGHT
BEGIN:STANDARD
TZOFFSETFROM:+0200
TZOFFSETTO:+0100
TZNAME:CET
DTSTART:20251026T010000
END:STANDARD
BEGIN:DAYLIGHT
TZOFFSETFROM:+0100
TZOFFSETTO:+0200
TZNAME:CEST
DTSTART:20260329T010000
END:DAYLIGHT
BEGIN:STANDARD
TZOFFSETFROM:+0200
TZOFFSETTO:+0100
TZNAME:CET
DTSTART:20261025T010000
END:STANDARD
END:VTIMEZONE
BEGIN:VEVENT
DTSTART;TZID=Europe/Amsterdam:20250407T203000
DTEND;TZID=Europe/Amsterdam:20250407T230000
DTSTAMP:20260425T222425
CREATED:20241014T100618Z
LAST-MODIFIED:20250102T170532Z
UID:19207-1744057800-1744066800@www.bcgeldrop.nl
SUMMARY:Vrij spelen
DESCRIPTION:Halve hal vanaf 22:30
URL:https://www.bcgeldrop.nl/activiteit/vrij-spelen-369/
LOCATION:Sporthal De Kievit\, Linze 13\, Geldrop\, 5667AH\, Nederland
CATEGORIES:Vrij spelen
END:VEVENT
BEGIN:VEVENT
DTSTART;TZID=Europe/Amsterdam:20250403T203000
DTEND;TZID=Europe/Amsterdam:20250403T230000
DTSTAMP:20260425T222425
CREATED:20250102T144705Z
LAST-MODIFIED:20250102T144705Z
UID:19465-1743712200-1743721200@www.bcgeldrop.nl
SUMMARY:Vrij spelen
DESCRIPTION:Halve hal vanaf 22:30
URL:https://www.bcgeldrop.nl/activiteit/vrij-spelen-408/
LOCATION:Sporthal De Kievit\, Linze 13\, Geldrop\, 5667AH\, Nederland
CATEGORIES:Vrij spelen
END:VEVENT
BEGIN:VEVENT
DTSTART;TZID=Europe/Amsterdam:20250331T203000
DTEND;TZID=Europe/Amsterdam:20250331T230000
DTSTAMP:20260425T222425
CREATED:20241014T100618Z
LAST-MODIFIED:20250102T170332Z
UID:19206-1743453000-1743462000@www.bcgeldrop.nl
SUMMARY:Vrij spelen
DESCRIPTION:Halve hal vanaf 22:30
URL:https://www.bcgeldrop.nl/activiteit/vrij-spelen-368/
LOCATION:Sporthal De Kievit\, Linze 13\, Geldrop\, 5667AH\, Nederland
CATEGORIES:Vrij spelen
END:VEVENT
BEGIN:VEVENT
DTSTART;TZID=Europe/Amsterdam:20250327T203000
DTEND;TZID=Europe/Amsterdam:20250327T230000
DTSTAMP:20260425T222425
CREATED:20250102T144704Z
LAST-MODIFIED:20250102T144704Z
UID:19464-1743107400-1743116400@www.bcgeldrop.nl
SUMMARY:Vrij spelen
DESCRIPTION:Halve hal vanaf 22:30
URL:https://www.bcgeldrop.nl/activiteit/vrij-spelen-407/
LOCATION:Sporthal De Kievit\, Linze 13\, Geldrop\, 5667AH\, Nederland
CATEGORIES:Vrij spelen
END:VEVENT
BEGIN:VEVENT
DTSTART;TZID=Europe/Amsterdam:20250324T203000
DTEND;TZID=Europe/Amsterdam:20250324T230000
DTSTAMP:20260425T222425
CREATED:20241014T100617Z
LAST-MODIFIED:20250102T170332Z
UID:19205-1742848200-1742857200@www.bcgeldrop.nl
SUMMARY:Vrij spelen
DESCRIPTION:Halve hal vanaf 22:30
URL:https://www.bcgeldrop.nl/activiteit/vrij-spelen-367/
LOCATION:Sporthal De Kievit\, Linze 13\, Geldrop\, 5667AH\, Nederland
CATEGORIES:Vrij spelen
END:VEVENT
BEGIN:VEVENT
DTSTART;TZID=Europe/Amsterdam:20250320T203000
DTEND;TZID=Europe/Amsterdam:20250320T230000
DTSTAMP:20260425T222425
CREATED:20250102T144704Z
LAST-MODIFIED:20250102T144704Z
UID:19463-1742502600-1742511600@www.bcgeldrop.nl
SUMMARY:Vrij spelen
DESCRIPTION:Halve hal vanaf 22:30
URL:https://www.bcgeldrop.nl/activiteit/vrij-spelen-406/
LOCATION:Sporthal De Kievit\, Linze 13\, Geldrop\, 5667AH\, Nederland
CATEGORIES:Vrij spelen
END:VEVENT
BEGIN:VEVENT
DTSTART;TZID=Europe/Amsterdam:20250317T203000
DTEND;TZID=Europe/Amsterdam:20250317T230000
DTSTAMP:20260425T222425
CREATED:20241014T100603Z
LAST-MODIFIED:20250102T170332Z
UID:19204-1742243400-1742252400@www.bcgeldrop.nl
SUMMARY:Vrij spelen
DESCRIPTION:Halve hal vanaf 22:30
URL:https://www.bcgeldrop.nl/activiteit/vrij-spelen-366/
LOCATION:Sporthal De Kievit\, Linze 13\, Geldrop\, 5667AH\, Nederland
CATEGORIES:Vrij spelen
END:VEVENT
BEGIN:VEVENT
DTSTART;TZID=Europe/Amsterdam:20250313T203000
DTEND;TZID=Europe/Amsterdam:20250313T230000
DTSTAMP:20260425T222425
CREATED:20250102T144704Z
LAST-MODIFIED:20250102T144704Z
UID:19462-1741897800-1741906800@www.bcgeldrop.nl
SUMMARY:Vrij spelen
DESCRIPTION:Halve hal vanaf 22:30
URL:https://www.bcgeldrop.nl/activiteit/vrij-spelen-405/
LOCATION:Sporthal De Kievit\, Linze 13\, Geldrop\, 5667AH\, Nederland
CATEGORIES:Vrij spelen
END:VEVENT
BEGIN:VEVENT
DTSTART;TZID=Europe/Amsterdam:20250310T203000
DTEND;TZID=Europe/Amsterdam:20250310T230000
DTSTAMP:20260425T222425
CREATED:20241014T100603Z
LAST-MODIFIED:20250102T170332Z
UID:19203-1741638600-1741647600@www.bcgeldrop.nl
SUMMARY:Vrij spelen
DESCRIPTION:Halve hal vanaf 22:30
URL:https://www.bcgeldrop.nl/activiteit/vrij-spelen-365/
LOCATION:Sporthal De Kievit\, Linze 13\, Geldrop\, 5667AH\, Nederland
CATEGORIES:Vrij spelen
END:VEVENT
BEGIN:VEVENT
DTSTART;TZID=Europe/Amsterdam:20250306T203000
DTEND;TZID=Europe/Amsterdam:20250306T230000
DTSTAMP:20260425T222425
CREATED:20250102T144505Z
LAST-MODIFIED:20250102T144505Z
UID:19461-1741293000-1741302000@www.bcgeldrop.nl
SUMMARY:Vrij spelen
DESCRIPTION:Halve hal vanaf 22:30
URL:https://www.bcgeldrop.nl/activiteit/vrij-spelen-404/
LOCATION:Sporthal De Kievit\, Linze 13\, Geldrop\, 5667AH\, Nederland
CATEGORIES:Vrij spelen
END:VEVENT
BEGIN:VEVENT
DTSTART;TZID=Europe/Amsterdam:20250227T203000
DTEND;TZID=Europe/Amsterdam:20250227T230000
DTSTAMP:20260425T222425
CREATED:20250102T144505Z
LAST-MODIFIED:20250102T144505Z
UID:19460-1740688200-1740697200@www.bcgeldrop.nl
SUMMARY:Vrij spelen
DESCRIPTION:Halve hal vanaf 22:30
URL:https://www.bcgeldrop.nl/activiteit/vrij-spelen-403/
LOCATION:Sporthal De Kievit\, Linze 13\, Geldrop\, 5667AH\, Nederland
CATEGORIES:Vrij spelen
END:VEVENT
BEGIN:VEVENT
DTSTART;TZID=Europe/Amsterdam:20250224T203000
DTEND;TZID=Europe/Amsterdam:20250224T230000
DTSTAMP:20260425T222425
CREATED:20241014T100603Z
LAST-MODIFIED:20250102T170332Z
UID:19202-1740429000-1740438000@www.bcgeldrop.nl
SUMMARY:Vrij spelen
DESCRIPTION:Halve hal vanaf 22:30
URL:https://www.bcgeldrop.nl/activiteit/vrij-spelen-364/
LOCATION:Sporthal De Kievit\, Linze 13\, Geldrop\, 5667AH\, Nederland
CATEGORIES:Vrij spelen
END:VEVENT
BEGIN:VEVENT
DTSTART;TZID=Europe/Amsterdam:20250220T203000
DTEND;TZID=Europe/Amsterdam:20250220T230000
DTSTAMP:20260425T222425
CREATED:20250102T144504Z
LAST-MODIFIED:20250102T144504Z
UID:19459-1740083400-1740092400@www.bcgeldrop.nl
SUMMARY:Vrij spelen
DESCRIPTION:Halve hal vanaf 22:30
URL:https://www.bcgeldrop.nl/activiteit/vrij-spelen-402/
LOCATION:Sporthal De Kievit\, Linze 13\, Geldrop\, 5667AH\, Nederland
CATEGORIES:Vrij spelen
END:VEVENT
BEGIN:VEVENT
DTSTART;TZID=Europe/Amsterdam:20250217T203000
DTEND;TZID=Europe/Amsterdam:20250217T230000
DTSTAMP:20260425T222425
CREATED:20241014T100603Z
LAST-MODIFIED:20250102T170316Z
UID:19201-1739824200-1739833200@www.bcgeldrop.nl
SUMMARY:Vrij spelen
DESCRIPTION:Halve hal vanaf 22:30
URL:https://www.bcgeldrop.nl/activiteit/vrij-spelen-363/
LOCATION:Sporthal De Kievit\, Linze 13\, Geldrop\, 5667AH\, Nederland
CATEGORIES:Vrij spelen
END:VEVENT
BEGIN:VEVENT
DTSTART;TZID=Europe/Amsterdam:20250213T203000
DTEND;TZID=Europe/Amsterdam:20250213T230000
DTSTAMP:20260425T222425
CREATED:20250102T144504Z
LAST-MODIFIED:20250102T144504Z
UID:19458-1739478600-1739487600@www.bcgeldrop.nl
SUMMARY:Vrij spelen
DESCRIPTION:Halve hal vanaf 22:30
URL:https://www.bcgeldrop.nl/activiteit/vrij-spelen-401/
LOCATION:Sporthal De Kievit\, Linze 13\, Geldrop\, 5667AH\, Nederland
CATEGORIES:Vrij spelen
END:VEVENT
BEGIN:VEVENT
DTSTART;TZID=Europe/Amsterdam:20250210T203000
DTEND;TZID=Europe/Amsterdam:20250210T230000
DTSTAMP:20260425T222425
CREATED:20241014T100602Z
LAST-MODIFIED:20250102T170316Z
UID:19200-1739219400-1739228400@www.bcgeldrop.nl
SUMMARY:Vrij spelen
DESCRIPTION:Halve hal vanaf 22:30
URL:https://www.bcgeldrop.nl/activiteit/vrij-spelen-362/
LOCATION:Sporthal De Kievit\, Linze 13\, Geldrop\, 5667AH\, Nederland
CATEGORIES:Vrij spelen
END:VEVENT
BEGIN:VEVENT
DTSTART;TZID=Europe/Amsterdam:20250206T203000
DTEND;TZID=Europe/Amsterdam:20250206T230000
DTSTAMP:20260425T222425
CREATED:20250102T144504Z
LAST-MODIFIED:20250102T144504Z
UID:19457-1738873800-1738882800@www.bcgeldrop.nl
SUMMARY:Vrij spelen
DESCRIPTION:Halve hal vanaf 22:30
URL:https://www.bcgeldrop.nl/activiteit/vrij-spelen-400/
LOCATION:Sporthal De Kievit\, Linze 13\, Geldrop\, 5667AH\, Nederland
CATEGORIES:Vrij spelen
END:VEVENT
BEGIN:VEVENT
DTSTART;TZID=Europe/Amsterdam:20250203T203000
DTEND;TZID=Europe/Amsterdam:20250203T230000
DTSTAMP:20260425T222425
CREATED:20241014T100404Z
LAST-MODIFIED:20250102T170316Z
UID:19199-1738614600-1738623600@www.bcgeldrop.nl
SUMMARY:Vrij spelen
DESCRIPTION:Halve hal vanaf 22:30
URL:https://www.bcgeldrop.nl/activiteit/vrij-spelen-361/
LOCATION:Sporthal De Kievit\, Linze 13\, Geldrop\, 5667AH\, Nederland
CATEGORIES:Vrij spelen
END:VEVENT
BEGIN:VEVENT
DTSTART;TZID=Europe/Amsterdam:20250130T203000
DTEND;TZID=Europe/Amsterdam:20250130T230000
DTSTAMP:20260425T222425
CREATED:20250102T144450Z
LAST-MODIFIED:20250102T144450Z
UID:19456-1738269000-1738278000@www.bcgeldrop.nl
SUMMARY:Vrij spelen
DESCRIPTION:Halve hal vanaf 22:30
URL:https://www.bcgeldrop.nl/activiteit/vrij-spelen-399/
LOCATION:Sporthal De Kievit\, Linze 13\, Geldrop\, 5667AH\, Nederland
CATEGORIES:Vrij spelen
END:VEVENT
BEGIN:VEVENT
DTSTART;TZID=Europe/Amsterdam:20250127T203000
DTEND;TZID=Europe/Amsterdam:20250127T230000
DTSTAMP:20260425T222425
CREATED:20241014T100404Z
LAST-MODIFIED:20250102T170316Z
UID:19198-1738009800-1738018800@www.bcgeldrop.nl
SUMMARY:Vrij spelen
DESCRIPTION:Halve hal vanaf 22:30
URL:https://www.bcgeldrop.nl/activiteit/vrij-spelen-360/
LOCATION:Sporthal De Kievit\, Linze 13\, Geldrop\, 5667AH\, Nederland
CATEGORIES:Vrij spelen
END:VEVENT
BEGIN:VEVENT
DTSTART;TZID=Europe/Amsterdam:20250123T203000
DTEND;TZID=Europe/Amsterdam:20250123T230000
DTSTAMP:20260425T222425
CREATED:20250102T144450Z
LAST-MODIFIED:20250102T144450Z
UID:19455-1737664200-1737673200@www.bcgeldrop.nl
SUMMARY:Vrij spelen
DESCRIPTION:Halve hal vanaf 22:30
URL:https://www.bcgeldrop.nl/activiteit/vrij-spelen-398/
LOCATION:Sporthal De Kievit\, Linze 13\, Geldrop\, 5667AH\, Nederland
CATEGORIES:Vrij spelen
END:VEVENT
BEGIN:VEVENT
DTSTART;TZID=Europe/Amsterdam:20250120T203000
DTEND;TZID=Europe/Amsterdam:20250120T230000
DTSTAMP:20260425T222425
CREATED:20241014T100404Z
LAST-MODIFIED:20250102T170316Z
UID:19197-1737405000-1737414000@www.bcgeldrop.nl
SUMMARY:Vrij spelen
DESCRIPTION:Halve hal vanaf 22:30
URL:https://www.bcgeldrop.nl/activiteit/vrij-spelen-359/
LOCATION:Sporthal De Kievit\, Linze 13\, Geldrop\, 5667AH\, Nederland
CATEGORIES:Vrij spelen
END:VEVENT
BEGIN:VEVENT
DTSTART;TZID=Europe/Amsterdam:20250116T203000
DTEND;TZID=Europe/Amsterdam:20250116T230000
DTSTAMP:20260425T222425
CREATED:20250102T144449Z
LAST-MODIFIED:20250102T144449Z
UID:19454-1737059400-1737068400@www.bcgeldrop.nl
SUMMARY:Vrij spelen
DESCRIPTION:Halve hal vanaf 22:30
URL:https://www.bcgeldrop.nl/activiteit/vrij-spelen-397/
LOCATION:Sporthal De Kievit\, Linze 13\, Geldrop\, 5667AH\, Nederland
CATEGORIES:Vrij spelen
END:VEVENT
BEGIN:VEVENT
DTSTART;TZID=Europe/Amsterdam:20250113T203000
DTEND;TZID=Europe/Amsterdam:20250113T230000
DTSTAMP:20260425T222425
CREATED:20241014T100404Z
LAST-MODIFIED:20250102T170253Z
UID:19196-1736800200-1736809200@www.bcgeldrop.nl
SUMMARY:Vrij spelen
DESCRIPTION:Halve hal vanaf 22:30
URL:https://www.bcgeldrop.nl/activiteit/vrij-spelen-358/
LOCATION:Sporthal De Kievit\, Linze 13\, Geldrop\, 5667AH\, Nederland
CATEGORIES:Vrij spelen
END:VEVENT
BEGIN:VEVENT
DTSTART;TZID=Europe/Amsterdam:20250109T203000
DTEND;TZID=Europe/Amsterdam:20250109T230000
DTSTAMP:20260425T222425
CREATED:20250102T144449Z
LAST-MODIFIED:20250102T144449Z
UID:19453-1736454600-1736463600@www.bcgeldrop.nl
SUMMARY:Vrij spelen
DESCRIPTION:Halve hal vanaf 22:30
URL:https://www.bcgeldrop.nl/activiteit/vrij-spelen-396/
LOCATION:Sporthal De Kievit\, Linze 13\, Geldrop\, 5667AH\, Nederland
CATEGORIES:Vrij spelen
END:VEVENT
BEGIN:VEVENT
DTSTART;TZID=Europe/Amsterdam:20250106T203000
DTEND;TZID=Europe/Amsterdam:20250106T230000
DTSTAMP:20260425T222425
CREATED:20241014T100403Z
LAST-MODIFIED:20250102T170253Z
UID:19195-1736195400-1736204400@www.bcgeldrop.nl
SUMMARY:Vrij spelen
DESCRIPTION:Halve hal vanaf 22:30
URL:https://www.bcgeldrop.nl/activiteit/vrij-spelen-357/
LOCATION:Sporthal De Kievit\, Linze 13\, Geldrop\, 5667AH\, Nederland
CATEGORIES:Vrij spelen
END:VEVENT
BEGIN:VEVENT
DTSTART;TZID=Europe/Amsterdam:20250102T203000
DTEND;TZID=Europe/Amsterdam:20250102T230000
DTSTAMP:20260425T222425
CREATED:20250102T144449Z
LAST-MODIFIED:20250102T144449Z
UID:19452-1735849800-1735858800@www.bcgeldrop.nl
SUMMARY:Vrij spelen
DESCRIPTION:Halve hal vanaf 22:30
URL:https://www.bcgeldrop.nl/activiteit/vrij-spelen-395/
LOCATION:Sporthal De Kievit\, Linze 13\, Geldrop\, 5667AH\, Nederland
CATEGORIES:Vrij spelen
END:VEVENT
BEGIN:VEVENT
DTSTART;TZID=Europe/Amsterdam:20241230T203000
DTEND;TZID=Europe/Amsterdam:20241230T230000
DTSTAMP:20260425T222425
CREATED:20241014T100348Z
LAST-MODIFIED:20250102T170253Z
UID:19194-1735590600-1735599600@www.bcgeldrop.nl
SUMMARY:Vrij spelen
DESCRIPTION:Halve hal vanaf 22:30
URL:https://www.bcgeldrop.nl/activiteit/vrij-spelen-356/
LOCATION:Sporthal De Kievit\, Linze 13\, Geldrop\, 5667AH\, Nederland
CATEGORIES:Vrij spelen
END:VEVENT
BEGIN:VEVENT
DTSTART;TZID=Europe/Amsterdam:20241223T203000
DTEND;TZID=Europe/Amsterdam:20241223T230000
DTSTAMP:20260425T222425
CREATED:20241014T100348Z
LAST-MODIFIED:20250102T170253Z
UID:19193-1734985800-1734994800@www.bcgeldrop.nl
SUMMARY:Vrij spelen
DESCRIPTION:Halve hal vanaf 22:30
URL:https://www.bcgeldrop.nl/activiteit/vrij-spelen-355/
LOCATION:Sporthal De Kievit\, Linze 13\, Geldrop\, 5667AH\, Nederland
CATEGORIES:Vrij spelen
END:VEVENT
BEGIN:VEVENT
DTSTART;TZID=Europe/Amsterdam:20241216T203000
DTEND;TZID=Europe/Amsterdam:20241216T230000
DTSTAMP:20260425T222425
CREATED:20241014T100348Z
LAST-MODIFIED:20250102T170252Z
UID:19192-1734381000-1734390000@www.bcgeldrop.nl
SUMMARY:Vrij spelen
DESCRIPTION:Halve hal vanaf 22:30
URL:https://www.bcgeldrop.nl/activiteit/vrij-spelen-354/
LOCATION:Sporthal De Kievit\, Linze 13\, Geldrop\, 5667AH\, Nederland
CATEGORIES:Vrij spelen
END:VEVENT
END:VCALENDAR