BEGIN:VCALENDAR
VERSION:2.0
PRODID:-//Badmintonclub Geldrop - ECPv6.15.20//NONSGML v1.0//EN
CALSCALE:GREGORIAN
METHOD:PUBLISH
X-WR-CALNAME:Badmintonclub Geldrop
X-ORIGINAL-URL:https://www.bcgeldrop.nl
X-WR-CALDESC:Evenementen voor Badmintonclub Geldrop
REFRESH-INTERVAL;VALUE=DURATION:PT1H
X-Robots-Tag:noindex
X-PUBLISHED-TTL:PT1H
BEGIN:VTIMEZONE
TZID:Europe/Amsterdam
BEGIN:DAYLIGHT
TZOFFSETFROM:+0100
TZOFFSETTO:+0200
TZNAME:CEST
DTSTART:20230326T010000
END:DAYLIGHT
BEGIN:STANDARD
TZOFFSETFROM:+0200
TZOFFSETTO:+0100
TZNAME:CET
DTSTART:20231029T010000
END:STANDARD
BEGIN:DAYLIGHT
TZOFFSETFROM:+0100
TZOFFSETTO:+0200
TZNAME:CEST
DTSTART:20240331T010000
END:DAYLIGHT
BEGIN:STANDARD
TZOFFSETFROM:+0200
TZOFFSETTO:+0100
TZNAME:CET
DTSTART:20241027T010000
END:STANDARD
BEGIN:DAYLIGHT
TZOFFSETFROM:+0100
TZOFFSETTO:+0200
TZNAME:CEST
DTSTART:20250330T010000
END:DAYLIGHT
BEGIN:STANDARD
TZOFFSETFROM:+0200
TZOFFSETTO:+0100
TZNAME:CET
DTSTART:20251026T010000
END:STANDARD
BEGIN:DAYLIGHT
TZOFFSETFROM:+0100
TZOFFSETTO:+0200
TZNAME:CEST
DTSTART:20260329T010000
END:DAYLIGHT
BEGIN:STANDARD
TZOFFSETFROM:+0200
TZOFFSETTO:+0100
TZNAME:CET
DTSTART:20261025T010000
END:STANDARD
END:VTIMEZONE
BEGIN:VEVENT
DTSTART;TZID=Europe/Amsterdam:20250206T190000
DTEND;TZID=Europe/Amsterdam:20250206T203000
DTSTAMP:20260426T035129
CREATED:20250102T144152Z
LAST-MODIFIED:20250102T144152Z
UID:19432-1738868400-1738873800@www.bcgeldrop.nl
SUMMARY:Seniorentraining
DESCRIPTION:
URL:https://www.bcgeldrop.nl/activiteit/seniorentraining-495/
LOCATION:Sporthal De Kievit\, Linze 13\, Geldrop\, 5667AH\, Nederland
CATEGORIES:Trainingen senioren
END:VEVENT
BEGIN:VEVENT
DTSTART;TZID=Europe/Amsterdam:20250203T190000
DTEND;TZID=Europe/Amsterdam:20250203T203000
DTSTAMP:20260426T035129
CREATED:20241014T092817Z
LAST-MODIFIED:20250102T164645Z
UID:19124-1738609200-1738614600@www.bcgeldrop.nl
SUMMARY:Seniorentraining
DESCRIPTION:
URL:https://www.bcgeldrop.nl/activiteit/seniorentraining-456/
LOCATION:Sporthal De Kievit\, Linze 13\, Geldrop\, 5667AH\, Nederland
CATEGORIES:Trainingen senioren
END:VEVENT
BEGIN:VEVENT
DTSTART;TZID=Europe/Amsterdam:20250201T084500
DTEND;TZID=Europe/Amsterdam:20250201T101500
DTSTAMP:20260426T035129
CREATED:20241014T092619Z
LAST-MODIFIED:20250102T150607Z
UID:19072-1738399500-1738404900@www.bcgeldrop.nl
SUMMARY:Seniorentraining
DESCRIPTION:
URL:https://www.bcgeldrop.nl/activiteit/seniorentraining-407/
LOCATION:Sporthal De Kievit\, Linze 13\, Geldrop\, 5667AH\, Nederland
CATEGORIES:Trainingen senioren
END:VEVENT
BEGIN:VEVENT
DTSTART;TZID=Europe/Amsterdam:20250130T190000
DTEND;TZID=Europe/Amsterdam:20250130T203000
DTSTAMP:20260426T035129
CREATED:20250102T144137Z
LAST-MODIFIED:20250102T144137Z
UID:19431-1738263600-1738269000@www.bcgeldrop.nl
SUMMARY:Seniorentraining
DESCRIPTION:
URL:https://www.bcgeldrop.nl/activiteit/seniorentraining-494/
LOCATION:Sporthal De Kievit\, Linze 13\, Geldrop\, 5667AH\, Nederland
CATEGORIES:Trainingen senioren
END:VEVENT
BEGIN:VEVENT
DTSTART;TZID=Europe/Amsterdam:20250127T190000
DTEND;TZID=Europe/Amsterdam:20250127T203000
DTSTAMP:20260426T035129
CREATED:20241014T092817Z
LAST-MODIFIED:20250102T164645Z
UID:19123-1738004400-1738009800@www.bcgeldrop.nl
SUMMARY:Seniorentraining
DESCRIPTION:
URL:https://www.bcgeldrop.nl/activiteit/seniorentraining-455/
LOCATION:Sporthal De Kievit\, Linze 13\, Geldrop\, 5667AH\, Nederland
CATEGORIES:Trainingen senioren
END:VEVENT
BEGIN:VEVENT
DTSTART;TZID=Europe/Amsterdam:20250125T084500
DTEND;TZID=Europe/Amsterdam:20250125T101500
DTSTAMP:20260426T035129
CREATED:20241014T092605Z
LAST-MODIFIED:20250102T150606Z
UID:19071-1737794700-1737800100@www.bcgeldrop.nl
SUMMARY:Seniorentraining
DESCRIPTION:
URL:https://www.bcgeldrop.nl/activiteit/seniorentraining-406/
LOCATION:Sporthal De Kievit\, Linze 13\, Geldrop\, 5667AH\, Nederland
CATEGORIES:Trainingen senioren
END:VEVENT
BEGIN:VEVENT
DTSTART;TZID=Europe/Amsterdam:20250123T190000
DTEND;TZID=Europe/Amsterdam:20250123T203000
DTSTAMP:20260426T035129
CREATED:20250102T144137Z
LAST-MODIFIED:20250102T144137Z
UID:19430-1737658800-1737664200@www.bcgeldrop.nl
SUMMARY:Seniorentraining
DESCRIPTION:
URL:https://www.bcgeldrop.nl/activiteit/seniorentraining-493/
LOCATION:Sporthal De Kievit\, Linze 13\, Geldrop\, 5667AH\, Nederland
CATEGORIES:Trainingen senioren
END:VEVENT
BEGIN:VEVENT
DTSTART;TZID=Europe/Amsterdam:20250120T190000
DTEND;TZID=Europe/Amsterdam:20250120T203000
DTSTAMP:20260426T035129
CREATED:20241014T092816Z
LAST-MODIFIED:20250102T164645Z
UID:19122-1737399600-1737405000@www.bcgeldrop.nl
SUMMARY:Seniorentraining
DESCRIPTION:
URL:https://www.bcgeldrop.nl/activiteit/seniorentraining-454/
LOCATION:Sporthal De Kievit\, Linze 13\, Geldrop\, 5667AH\, Nederland
CATEGORIES:Trainingen senioren
END:VEVENT
BEGIN:VEVENT
DTSTART;TZID=Europe/Amsterdam:20250118T084500
DTEND;TZID=Europe/Amsterdam:20250118T101500
DTSTAMP:20260426T035129
CREATED:20241014T092604Z
LAST-MODIFIED:20250102T150606Z
UID:19070-1737189900-1737195300@www.bcgeldrop.nl
SUMMARY:Seniorentraining
DESCRIPTION:
URL:https://www.bcgeldrop.nl/activiteit/seniorentraining-405/
LOCATION:Sporthal De Kievit\, Linze 13\, Geldrop\, 5667AH\, Nederland
CATEGORIES:Trainingen senioren
END:VEVENT
BEGIN:VEVENT
DTSTART;TZID=Europe/Amsterdam:20250116T190000
DTEND;TZID=Europe/Amsterdam:20250116T203000
DTSTAMP:20260426T035129
CREATED:20250102T144137Z
LAST-MODIFIED:20250102T144137Z
UID:19429-1737054000-1737059400@www.bcgeldrop.nl
SUMMARY:Seniorentraining
DESCRIPTION:
URL:https://www.bcgeldrop.nl/activiteit/seniorentraining-492/
LOCATION:Sporthal De Kievit\, Linze 13\, Geldrop\, 5667AH\, Nederland
CATEGORIES:Trainingen senioren
END:VEVENT
BEGIN:VEVENT
DTSTART;TZID=Europe/Amsterdam:20250113T190000
DTEND;TZID=Europe/Amsterdam:20250113T203000
DTSTAMP:20260426T035129
CREATED:20241014T092816Z
LAST-MODIFIED:20250102T164645Z
UID:19121-1736794800-1736800200@www.bcgeldrop.nl
SUMMARY:Seniorentraining
DESCRIPTION:
URL:https://www.bcgeldrop.nl/activiteit/seniorentraining-453/
LOCATION:Sporthal De Kievit\, Linze 13\, Geldrop\, 5667AH\, Nederland
CATEGORIES:Trainingen senioren
END:VEVENT
BEGIN:VEVENT
DTSTART;TZID=Europe/Amsterdam:20250111T084500
DTEND;TZID=Europe/Amsterdam:20250111T101500
DTSTAMP:20260426T035129
CREATED:20241014T092604Z
LAST-MODIFIED:20250102T150606Z
UID:19069-1736585100-1736590500@www.bcgeldrop.nl
SUMMARY:Seniorentraining
DESCRIPTION:
URL:https://www.bcgeldrop.nl/activiteit/seniorentraining-404/
LOCATION:Sporthal De Kievit\, Linze 13\, Geldrop\, 5667AH\, Nederland
CATEGORIES:Trainingen senioren
END:VEVENT
BEGIN:VEVENT
DTSTART;TZID=Europe/Amsterdam:20250109T190000
DTEND;TZID=Europe/Amsterdam:20250109T203000
DTSTAMP:20260426T035129
CREATED:20250102T144136Z
LAST-MODIFIED:20250102T144136Z
UID:19428-1736449200-1736454600@www.bcgeldrop.nl
SUMMARY:Seniorentraining
DESCRIPTION:
URL:https://www.bcgeldrop.nl/activiteit/seniorentraining-491/
LOCATION:Sporthal De Kievit\, Linze 13\, Geldrop\, 5667AH\, Nederland
CATEGORIES:Trainingen senioren
END:VEVENT
BEGIN:VEVENT
DTSTART;TZID=Europe/Amsterdam:20250106T190000
DTEND;TZID=Europe/Amsterdam:20250106T203000
DTSTAMP:20260426T035129
CREATED:20241014T092816Z
LAST-MODIFIED:20250102T164645Z
UID:19120-1736190000-1736195400@www.bcgeldrop.nl
SUMMARY:Seniorentraining
DESCRIPTION:
URL:https://www.bcgeldrop.nl/activiteit/seniorentraining-452/
LOCATION:Sporthal De Kievit\, Linze 13\, Geldrop\, 5667AH\, Nederland
CATEGORIES:Trainingen senioren
END:VEVENT
BEGIN:VEVENT
DTSTART;TZID=Europe/Amsterdam:20250104T084500
DTEND;TZID=Europe/Amsterdam:20250104T101500
DTSTAMP:20260426T035129
CREATED:20241014T092604Z
LAST-MODIFIED:20250102T150606Z
UID:19068-1735980300-1735985700@www.bcgeldrop.nl
SUMMARY:Seniorentraining
DESCRIPTION:
URL:https://www.bcgeldrop.nl/activiteit/seniorentraining-403/
LOCATION:Sporthal De Kievit\, Linze 13\, Geldrop\, 5667AH\, Nederland
CATEGORIES:Trainingen senioren
END:VEVENT
BEGIN:VEVENT
DTSTART;TZID=Europe/Amsterdam:20250102T190000
DTEND;TZID=Europe/Amsterdam:20250102T203000
DTSTAMP:20260426T035129
CREATED:20250102T144136Z
LAST-MODIFIED:20250102T144136Z
UID:19427-1735844400-1735849800@www.bcgeldrop.nl
SUMMARY:Seniorentraining
DESCRIPTION:
URL:https://www.bcgeldrop.nl/activiteit/seniorentraining-490/
LOCATION:Sporthal De Kievit\, Linze 13\, Geldrop\, 5667AH\, Nederland
CATEGORIES:Trainingen senioren
END:VEVENT
BEGIN:VEVENT
DTSTART;TZID=Europe/Amsterdam:20241230T190000
DTEND;TZID=Europe/Amsterdam:20241230T203000
DTSTAMP:20260426T035129
CREATED:20241014T092802Z
LAST-MODIFIED:20250102T164444Z
UID:19119-1735585200-1735590600@www.bcgeldrop.nl
SUMMARY:Seniorentraining
DESCRIPTION:
URL:https://www.bcgeldrop.nl/activiteit/seniorentraining-451/
LOCATION:Sporthal De Kievit\, Linze 13\, Geldrop\, 5667AH\, Nederland
CATEGORIES:Trainingen senioren
END:VEVENT
BEGIN:VEVENT
DTSTART;TZID=Europe/Amsterdam:20241223T190000
DTEND;TZID=Europe/Amsterdam:20241223T203000
DTSTAMP:20260426T035129
CREATED:20241014T092801Z
LAST-MODIFIED:20250102T164444Z
UID:19118-1734980400-1734985800@www.bcgeldrop.nl
SUMMARY:Seniorentraining
DESCRIPTION:
URL:https://www.bcgeldrop.nl/activiteit/seniorentraining-450/
LOCATION:Sporthal De Kievit\, Linze 13\, Geldrop\, 5667AH\, Nederland
CATEGORIES:Trainingen senioren
END:VEVENT
BEGIN:VEVENT
DTSTART;TZID=Europe/Amsterdam:20241216T190000
DTEND;TZID=Europe/Amsterdam:20241216T203000
DTSTAMP:20260426T035129
CREATED:20241014T092801Z
LAST-MODIFIED:20250102T164444Z
UID:19117-1734375600-1734381000@www.bcgeldrop.nl
SUMMARY:Seniorentraining
DESCRIPTION:
URL:https://www.bcgeldrop.nl/activiteit/seniorentraining-449/
LOCATION:Sporthal De Kievit\, Linze 13\, Geldrop\, 5667AH\, Nederland
CATEGORIES:Trainingen senioren
END:VEVENT
BEGIN:VEVENT
DTSTART;TZID=Europe/Amsterdam:20241214T084500
DTEND;TZID=Europe/Amsterdam:20241214T101500
DTSTAMP:20260426T035129
CREATED:20241014T092603Z
LAST-MODIFIED:20241014T092603Z
UID:19067-1734165900-1734171300@www.bcgeldrop.nl
SUMMARY:Seniorentraining
DESCRIPTION:
URL:https://www.bcgeldrop.nl/activiteit/seniorentraining-402/
LOCATION:Sporthal De Kievit\, Linze 13\, Geldrop\, 5667AH\, Nederland
CATEGORIES:Trainingen senioren
END:VEVENT
BEGIN:VEVENT
DTSTART;TZID=Europe/Amsterdam:20241209T190000
DTEND;TZID=Europe/Amsterdam:20241209T203000
DTSTAMP:20260426T035129
CREATED:20241014T092801Z
LAST-MODIFIED:20250102T164444Z
UID:19116-1733770800-1733776200@www.bcgeldrop.nl
SUMMARY:Seniorentraining
DESCRIPTION:
URL:https://www.bcgeldrop.nl/activiteit/seniorentraining-448/
LOCATION:Sporthal De Kievit\, Linze 13\, Geldrop\, 5667AH\, Nederland
CATEGORIES:Trainingen senioren
END:VEVENT
BEGIN:VEVENT
DTSTART;TZID=Europe/Amsterdam:20241202T190000
DTEND;TZID=Europe/Amsterdam:20241202T203000
DTSTAMP:20260426T035129
CREATED:20241014T092801Z
LAST-MODIFIED:20250102T164444Z
UID:19115-1733166000-1733171400@www.bcgeldrop.nl
SUMMARY:Seniorentraining
DESCRIPTION:
URL:https://www.bcgeldrop.nl/activiteit/seniorentraining-447/
LOCATION:Sporthal De Kievit\, Linze 13\, Geldrop\, 5667AH\, Nederland
CATEGORIES:Trainingen senioren
END:VEVENT
BEGIN:VEVENT
DTSTART;TZID=Europe/Amsterdam:20241127T203000
DTEND;TZID=Europe/Amsterdam:20241127T220000
DTSTAMP:20260426T035129
CREATED:20250102T150605Z
LAST-MODIFIED:20250102T150605Z
UID:19514-1732739400-1732744800@www.bcgeldrop.nl
SUMMARY:Seniorentraining
DESCRIPTION:
URL:https://www.bcgeldrop.nl/activiteit/seniorentraining-519/
LOCATION:Sporthal De Kievit\, Linze 13\, Geldrop\, 5667AH\, Nederland
CATEGORIES:Trainingen senioren
END:VEVENT
BEGIN:VEVENT
DTSTART;TZID=Europe/Amsterdam:20241125T190000
DTEND;TZID=Europe/Amsterdam:20241125T203000
DTSTAMP:20260426T035129
CREATED:20241014T092715Z
LAST-MODIFIED:20250102T164243Z
UID:19114-1732561200-1732566600@www.bcgeldrop.nl
SUMMARY:Seniorentraining
DESCRIPTION:
URL:https://www.bcgeldrop.nl/activiteit/seniorentraining-446/
LOCATION:Sporthal De Kievit\, Linze 13\, Geldrop\, 5667AH\, Nederland
CATEGORIES:Trainingen senioren
END:VEVENT
BEGIN:VEVENT
DTSTART;TZID=Europe/Amsterdam:20241120T203000
DTEND;TZID=Europe/Amsterdam:20241120T220000
DTSTAMP:20260426T035129
CREATED:20250102T150605Z
LAST-MODIFIED:20250102T150605Z
UID:19513-1732134600-1732140000@www.bcgeldrop.nl
SUMMARY:Seniorentraining
DESCRIPTION:
URL:https://www.bcgeldrop.nl/activiteit/seniorentraining-518/
LOCATION:Sporthal De Kievit\, Linze 13\, Geldrop\, 5667AH\, Nederland
CATEGORIES:Trainingen senioren
END:VEVENT
BEGIN:VEVENT
DTSTART;TZID=Europe/Amsterdam:20241118T190000
DTEND;TZID=Europe/Amsterdam:20241118T203000
DTSTAMP:20260426T035129
CREATED:20241014T092715Z
LAST-MODIFIED:20250102T164243Z
UID:19113-1731956400-1731961800@www.bcgeldrop.nl
SUMMARY:Seniorentraining
DESCRIPTION:
URL:https://www.bcgeldrop.nl/activiteit/seniorentraining-445/
LOCATION:Sporthal De Kievit\, Linze 13\, Geldrop\, 5667AH\, Nederland
CATEGORIES:Trainingen senioren
END:VEVENT
BEGIN:VEVENT
DTSTART;TZID=Europe/Amsterdam:20241113T203000
DTEND;TZID=Europe/Amsterdam:20241113T220000
DTSTAMP:20260426T035129
CREATED:20250102T150605Z
LAST-MODIFIED:20250102T150605Z
UID:19512-1731529800-1731535200@www.bcgeldrop.nl
SUMMARY:Seniorentraining
DESCRIPTION:
URL:https://www.bcgeldrop.nl/activiteit/seniorentraining-517/
LOCATION:Sporthal De Kievit\, Linze 13\, Geldrop\, 5667AH\, Nederland
CATEGORIES:Trainingen senioren
END:VEVENT
BEGIN:VEVENT
DTSTART;TZID=Europe/Amsterdam:20241111T190000
DTEND;TZID=Europe/Amsterdam:20241111T203000
DTSTAMP:20260426T035129
CREATED:20241014T092715Z
LAST-MODIFIED:20250102T164242Z
UID:19112-1731351600-1731357000@www.bcgeldrop.nl
SUMMARY:Seniorentraining
DESCRIPTION:
URL:https://www.bcgeldrop.nl/activiteit/seniorentraining-444/
LOCATION:Sporthal De Kievit\, Linze 13\, Geldrop\, 5667AH\, Nederland
CATEGORIES:Trainingen senioren
END:VEVENT
BEGIN:VEVENT
DTSTART;TZID=Europe/Amsterdam:20241106T203000
DTEND;TZID=Europe/Amsterdam:20241106T220000
DTSTAMP:20260426T035129
CREATED:20250102T150604Z
LAST-MODIFIED:20250102T150604Z
UID:19511-1730925000-1730930400@www.bcgeldrop.nl
SUMMARY:Seniorentraining
DESCRIPTION:
URL:https://www.bcgeldrop.nl/activiteit/seniorentraining-516/
LOCATION:Sporthal De Kievit\, Linze 13\, Geldrop\, 5667AH\, Nederland
CATEGORIES:Trainingen senioren
END:VEVENT
BEGIN:VEVENT
DTSTART;TZID=Europe/Amsterdam:20241104T190000
DTEND;TZID=Europe/Amsterdam:20241104T203000
DTSTAMP:20260426T035129
CREATED:20241014T092714Z
LAST-MODIFIED:20250102T164242Z
UID:19111-1730746800-1730752200@www.bcgeldrop.nl
SUMMARY:Seniorentraining
DESCRIPTION:
URL:https://www.bcgeldrop.nl/activiteit/seniorentraining-443/
LOCATION:Sporthal De Kievit\, Linze 13\, Geldrop\, 5667AH\, Nederland
CATEGORIES:Trainingen senioren
END:VEVENT
END:VCALENDAR